BEGIN:VCALENDAR
VERSION:2.0
PRODID:-//Deutsche Atlantische Gesellschaft e.V. - ECPv6.15.13//NONSGML v1.0//EN
CALSCALE:GREGORIAN
METHOD:PUBLISH
X-WR-CALNAME:Deutsche Atlantische Gesellschaft e.V.
X-ORIGINAL-URL:https://ata-dag.de
X-WR-CALDESC:Veranstaltungen für Deutsche Atlantische Gesellschaft e.V.
REFRESH-INTERVAL;VALUE=DURATION:PT1H
X-Robots-Tag:noindex
X-PUBLISHED-TTL:PT1H
BEGIN:VTIMEZONE
TZID:Europe/Berlin
BEGIN:DAYLIGHT
TZOFFSETFROM:+0100
TZOFFSETTO:+0200
TZNAME:CEST
DTSTART:20250330T010000
END:DAYLIGHT
BEGIN:STANDARD
TZOFFSETFROM:+0200
TZOFFSETTO:+0100
TZNAME:CET
DTSTART:20251026T010000
END:STANDARD
BEGIN:DAYLIGHT
TZOFFSETFROM:+0100
TZOFFSETTO:+0200
TZNAME:CEST
DTSTART:20260329T010000
END:DAYLIGHT
BEGIN:STANDARD
TZOFFSETFROM:+0200
TZOFFSETTO:+0100
TZNAME:CET
DTSTART:20261025T010000
END:STANDARD
BEGIN:DAYLIGHT
TZOFFSETFROM:+0100
TZOFFSETTO:+0200
TZNAME:CEST
DTSTART:20270328T010000
END:DAYLIGHT
BEGIN:STANDARD
TZOFFSETFROM:+0200
TZOFFSETTO:+0100
TZNAME:CET
DTSTART:20271031T010000
END:STANDARD
END:VTIMEZONE
BEGIN:VEVENT
DTSTART;TZID=Europe/Berlin:20260424T180000
DTEND;TZID=Europe/Berlin:20260425T164500
DTSTAMP:20260424T031218
CREATED:20260304T103250Z
LAST-MODIFIED:20260417T082309Z
UID:24379-1777053600-1777135500@ata-dag.de
SUMMARY:Nürnberger Sicherheitstagung 2026
DESCRIPTION:Als Russland am 24. Februar 2022 seinen Angriffskrieg gegen die Ukraine zum Generalangriff auf das gesamte Land ausweitete\, war das historisch und geopolitisch eine Zäsur. In Deutschland rief Bundeskanzler Olaf Scholz die Zeitenwende aus. Mit welchen fundamentalen Veränderungen und neuen Herausforderungen die Länder Europas nur wenige Jahre später konfrontiert sein sollten\, war damals kaum abzusehen. Russlands hybrider Krieg gegen Europa wurde intensiviert\, die reale Bedrohung durch die imperialistischen Ambitionen Putins immer greifbarer. Zugleich macht Donald Trump aus seinen Sympathien für den Herrscher im Kreml keinen Hehl\, die USA fahren ihre Hilfen für die Ukraine zurück und lockern Sanktionen gegen Russland. Die neue US-Sicherheitsstrategie definiert die Länder Europas nicht mehr als Partner\, sondern bestenfalls als Konkurrenten\, Trumps Ambitionen auf Grönland erschütterten das transatlantische Verhältnis nachhaltig. Der Angriff der USA und Israels auf den Iran und dessen Schläge gegen seine Nachbarn sowie die Sperrung der Straße von Hormus destabilisieren nicht nur die Region\, sondern haben Auswirkungen auf den Ölpreis und den Welthandel – mit weitreichenden und noch nicht zur Gänze absehbaren Konsequenzen. In China macht man sich zwar Sorgen um die Schifffahrtswege\, verhält sich aber zurückhaltend und sucht im Windschatten der großen Krisen die eigenen Vorteile. \nDer Abschied von der regelbasierten Weltordnung scheint vollzogen\, der Weg zur Multipolarität unausweichlich. Können Deutschland\, Europa und weitere Mittelmächte diesen Entwicklungen etwas entgegensetzen? Welche geopolitische Rolle müssen sie angesichts der tiefgreifenden Veränderungen einnehmen\, um ihre Sicherheit sowie gemeinsame Interessen und Werte zu wahren? Auf der diesjährigen Nürnberger Sicherheitstagung werden Experten aus Wissenschaft und Politik\, Diplomatie und der Bundeswehr diese Fragen diskutieren und aktuelle Brennpunkte der Weltpolitik beleuchten. Diskutieren Sie mit\, wir laden Sie herzlich nach Nürnberg ein! \nDie Tagung ist bereits ausgebucht! Anmeldungen sind nicht mehr möglich. Es besteht jedoch die Möglichkeit zur digitalen Teilnahme. Melden Sie sich dazu bitte mit den nachfolgenden Links an: \nNürnberger Sicherheitstagung (digital) – Teil 1: \nFreitag\, 24.04.\, 18:00 bis 20:30 Uhr\, Infos und Möglichkeit zur Anmeldung: https://shop.freiheit.org/#!/Veranstaltung/mlgiy \nNürnberger Sicherheitstagung (digital) – Teil 2: \nSamstag\, 25.04.\, 09:30 bis 12:30 Uhr\, Infos und Möglichkeit zur Anmeldung: https://shop.freiheit.org/#!/Veranstaltung/em22o \nNürnberger Sicherheitstagung (digital) – Teil 3: \nSamstag\, 25.04.\, 13:30 bis 17:00 Uhr\, Infos und Möglichkeit zur Anmeldung: https://shop.freiheit.org/#!/Veranstaltung/v64nh \n  \nProgramm\nFreitag\, 24. April 2026\n18:00 Uhr: Grußwort\, Eröffnung und Begrüßung\nJosef Rauch\, Landesvorsitzender des Deutschen BundeswehrVerbands\, Landesverband Süddeutschland \nUlrich Lechte\, Vorsitzender der Nürnberger Sicherheitstagung \n18:30 Uhr: Impuls und Diskussion\nDr. Marie-Agnes Strack-Zimmermann MdEP\, Vorsitzende des Verteidigungsausschusses des Europäischen Parlaments \nGeneral a. D. Eberhard Zorn\, Ehem. Generalinspekteur der Bundeswehr \nNico Lange\, Senior Fellow bei der Münchner Sicherheitskonferenz \n20:30 Uhr Abendempfang mit Dinner\n  \nSamstag\, 25. April 2026\n09:30 Uhr: Eröffnung und Begrüßung\nThomas Hacker\, Präsident der Thomas-Dehler-Stiftung \n09:45 Uhr: Brennpunkte der Weltpolitik: Ukraine & Baltikum\nMattia Nelles\, Politischer Analyst\, Mitbegründer und Leiter des Deutsch-Ukrainischen Büros \nLaura Tatarelyte\, Programmmanagerin für die Baltische Staaten im Bereich Sicherheit und Verteidigung im Büro Vilnius der Friedrich-Naumann-Stiftung für die Freiheit \n11:15 Uhr: Brennpunkt der Weltpolitik: Die transatlantischen Beziehungen\n\n\n\n\nDr. Christoph von Marschall\, Diplomatischer Korrespondent der Chefredaktion des Tagesspiegel \n12:30 Uhr: Mittagspause\n\n\n\n\n13:30 Uhr: Brennpunkt der Weltpolitik: Iran\nS. E. Ahmed Alattar\, Außerordentlicher und bevollmächtigter Botschafter der Vereinigten Arabischen Emirate in Deutschland \nShahrzad Eden Osterer\, Deutsch-iranische Journalistin und Autorin \n15:00 Uhr: Brennpunkt der Weltpolitik: China\nDr. Sarah Kirchberger\, Direktorin des Institut für Sicherheitspolitik an der Universität Kiel (ISPK) \n16:15 Uhr Wrap up und Ausblick\n 
URL:https://ata-dag.de/veranstaltung/nuernberger-sicherheitstagung-2026/
LOCATION:Korn’s\, Kornmarkt 5-7\, Nürnberg\, 90402
CATEGORIES:Tagungen und Seminare
ATTACH;FMTTYPE=image/jpeg:https://ata-dag.de/media/2024/05/nuesi24-e1716276540967.jpg
END:VEVENT
END:VCALENDAR