BEGIN:VCALENDAR
VERSION:2.0
PRODID:-//Deutsche Atlantische Gesellschaft e.V. - ECPv6.15.13//NONSGML v1.0//EN
CALSCALE:GREGORIAN
METHOD:PUBLISH
X-ORIGINAL-URL:https://ata-dag.de
X-WR-CALDESC:Veranstaltungen für Deutsche Atlantische Gesellschaft e.V.
REFRESH-INTERVAL;VALUE=DURATION:PT1H
X-Robots-Tag:noindex
X-PUBLISHED-TTL:PT1H
BEGIN:VTIMEZONE
TZID:Europe/Berlin
BEGIN:DAYLIGHT
TZOFFSETFROM:+0100
TZOFFSETTO:+0200
TZNAME:CEST
DTSTART:20240331T010000
END:DAYLIGHT
BEGIN:STANDARD
TZOFFSETFROM:+0200
TZOFFSETTO:+0100
TZNAME:CET
DTSTART:20241027T010000
END:STANDARD
BEGIN:DAYLIGHT
TZOFFSETFROM:+0100
TZOFFSETTO:+0200
TZNAME:CEST
DTSTART:20250330T010000
END:DAYLIGHT
BEGIN:STANDARD
TZOFFSETFROM:+0200
TZOFFSETTO:+0100
TZNAME:CET
DTSTART:20251026T010000
END:STANDARD
BEGIN:DAYLIGHT
TZOFFSETFROM:+0100
TZOFFSETTO:+0200
TZNAME:CEST
DTSTART:20260329T010000
END:DAYLIGHT
BEGIN:STANDARD
TZOFFSETFROM:+0200
TZOFFSETTO:+0100
TZNAME:CET
DTSTART:20261025T010000
END:STANDARD
END:VTIMEZONE
BEGIN:VEVENT
DTSTART;TZID=Europe/Berlin:20250108T190000
DTEND;TZID=Europe/Berlin:20250108T203000
DTSTAMP:20260422T150950
CREATED:20241216T102840Z
LAST-MODIFIED:20250107T071430Z
UID:22172-1736362800-1736368200@ata-dag.de
SUMMARY:Zeitenwende: Der Zustand der Bundeswehr und die verteidigungspolitischen Herausforderungen in Europa im Jahre 2025
DESCRIPTION:Im Februar 2022 schrieb der Inspekteur des Heeres Alfons Mais auf Linkedin: „Die Bundeswehr\, das Heer\, das ich führen darf\, steht mehr oder weniger blank da“. Und weiter folgerte er: „Die Optionen\, die wir der Politik zur Unterstützung des Bündnisses anbieten können\, sind extrem limitiert“. \nMit der Zeitenwende-Rede des Bundeskanzlers und dem „100 Milliarden Euro Sondervermögen“ rückten die Streitkräfte auf der Prioritätsliste wieder nach oben. Verteidigungsminister Boris Pistorius fordert ganz offensiv wieder Kriegstüchtigkeit. D.h. Deutschland muss in der Lage sein\, einen militärischen Angriff abzuwehren. Wie der aktuelle Zustand der Bundeswehr ist\, darüber reden der Inspekteur des Heeres\, Generalleutnant Alfons Mais und der Bundestagsabgeordnete Falko Droßmann\, der u.a. auch Mitglied des Verteidigungsausschusses ist. \n  \nProgramm\nBegrüßung\nRoger Zörb\, Deutsche Atlantische Gesellschaft e.V.\n\n \nPanel-Diskussion\nFalko Droßmann MdB\, Verteidigungspolitischer Sprecher der SPD-Bundestagsfraktion \nGeneralleutnant Alfons Mais\, Inspekteur des Heeres \nModeration\nStine Klapper\, Politikwissenschaftlerin \n  \nZu dieser Veranstaltung\, die das Forum Hamburg der Deutschen Atlantischen Gesellschaft in Zusammenarbeit mit dem Verteidigungspolitischen Sprecher der SPD-Bundestagsfraktion Falko Droßmann durchführt\, lade ich Sie herzlich ein. \nUm verbindliche Zusage bis 05. Januar 2025 wird gebeten.
URL:https://ata-dag.de/veranstaltung/zeitenwende-der-zustand-der-bundeswehr-und-die-verteidigungspolitischen-herausforderungen-in-europa-im-jahre-2025/
LOCATION:Museumsschiff Rickmer Rickmers\, Landungsbrücken\, Ponton 1a\, Hamburg\, 20359\, Deutschland
CATEGORIES:Forum Hamburg
ATTACH;FMTTYPE=image/png:https://ata-dag.de/media/2024/05/Mainz-OPLAN.png
END:VEVENT
BEGIN:VEVENT
DTSTART;TZID=Europe/Berlin:20250109T190000
DTEND;TZID=Europe/Berlin:20250109T203000
DTSTAMP:20260422T150950
CREATED:20250103T113246Z
LAST-MODIFIED:20250103T113258Z
UID:22191-1736449200-1736454600@ata-dag.de
SUMMARY:Politische Wintergespräche 2025
DESCRIPTION:Die USA haben am 5. November 2024 ihren nächsten Präsidenten gewählt und somit Donald Trump eine zweite Gelegenheit gegeben\, ihr Land politisch zu lenken. Diese Wahl hat in Europa erneute Diskussionen über die zukünftige sicherheitspolitische Aufstellung ausgelöst – Wie umgehen mit einem Präsidenten\, der unvorhersehbare Entscheidungen treffen könnte? \nWir laden Sie herzlich ein\, gemeinsam mit unserem Referenten Dr. Andrew Denison den Blick auf die kommenden vier Jahre der US-Politik und die damit verbundenen strategischen und sicherheitspolitischen Herausforderungen für Deutschland\, für die EU und die NATO zu richten. Neben den zahlreichen und offensichtlich immer mehr werdenden kriegerischen Auseinandersetzungen weltweit wird eine große Rolle spielen\, wie sich die EU in diesem Rahmen positionieren kann und wird. Wir freuen uns auf Ihre Teilnahme und die Möglichkeit\, mit Ihnen über die aktuelle sicherheitspolitische Lage ins Gespräch zu kommen sowie sich im Anschluss bei einem kleinen Imbiss persönlich auszutauschen.
URL:https://ata-dag.de/veranstaltung/politische-wintergespraeche/
LOCATION:K.D.St.V. Staufia\, Baumschulallee 22\, Bonn\, 53115
CATEGORIES:Bonner Forum
ATTACH;FMTTYPE=image/png:https://ata-dag.de/media/2025/01/Trump-Cover.png
END:VEVENT
BEGIN:VEVENT
DTSTART;TZID=Europe/Berlin:20250120T180000
DTEND;TZID=Europe/Berlin:20250120T200000
DTSTAMP:20260422T150950
CREATED:20250113T085357Z
LAST-MODIFIED:20250113T141519Z
UID:22230-1737396000-1737403200@ata-dag.de
SUMMARY:Sicherheitspolitisches Forum am Wittelsbachplatz
DESCRIPTION:Podiumsdiskussion mit anschließendem Empfang \nDr. Margarete Klein\, Expertin für Russland\, Osteuropa\, Sicherheits- & Verteidigungspolitik\, SWP \nBrigadegeneral a.D. Rainer Meyer zum Felde\, Experte für transatlantische Sicherheit\, ISPK Kiel und GSP \nim Gespräch mit \nProf. Dr. Sonja Grimm\, Lehrstuhl Internationale Beziehungen und Europaforschung \n  \n  \n 
URL:https://ata-dag.de/veranstaltung/sicherheitspolitisches-forum-am-wittelsbachplatz/
LOCATION:Forum der Julius-Maximilians-Universität Würzburg\, Wittelsbacherplatz 1\, Würzburg\, 97074\, Deutschland
CATEGORIES:Regionalkreis Würzburg
ATTACH;FMTTYPE=image/png:https://ata-dag.de/media/2025/01/Bildschirmfoto-2025-01-13-um-09.52.30.png
END:VEVENT
BEGIN:VEVENT
DTSTART;TZID=Europe/Berlin:20250121T150000
DTEND;TZID=Europe/Berlin:20250121T163000
DTSTAMP:20260422T150950
CREATED:20250107T111300Z
LAST-MODIFIED:20250122T125411Z
UID:22200-1737471600-1737477000@ata-dag.de
SUMMARY:Perspektiven der transatlantischen Partnerschaft unter US-Präsident Donald Trump
DESCRIPTION:Gemeinsam mit Ihnen wollen einen Blick nur über den Atlantik werfen und einige Gedanken zum Ausgang der US-Wahlen mit Ihnen teilen. \nAußen‑\, wie innenpolitische Herausforderungen stellen sich für die neue Präsidentschaft zur Genüge: Militärische Konflikte in der Ukraine und in Nahost\, potentielle Konflikte in Ostasien mit dem systemischen Rivalen China\, eine uneinige EU und nach wie vor ein Europa\, das absehbar nicht für seine eigene Sicherheit sorgen kann und nur halbherzige Schritte in die richtige Richtung unternimmt\, um nur einige außenpolitische zu nennen. \nWelche Ausrichtung wird die neue Administration haben? Wie steht es\, um das ungleiche Paar Europa und USA? Wie bereit ist Europa für einen Präsidenten Donald Trump? \nÜber diese und weitere Fragen spricht Moderatorin Marion Sendker mit Dr. David Sirakov\, Direktor der Atlantischen Akademie Rheinland-Pfalz e.V. und Dr. Andrew B. Denison\, US-amerikanischer Politikwissenschaftler\, Kommentator und Publizist sowie Direktor des Forschungsverbunds Transatlantic Networks. Diskutieren Sie mit! \nDas Gespräch steht im Anschluss auch auf Abruf zur Verfügung. \n  \n\n\n\n\n\nSie sehen gerade einen Platzhalterinhalt von Facebook. Um auf den eigentlichen Inhalt zuzugreifen\, klicken Sie auf die Schaltfläche unten. Bitte beachten Sie\, dass dabei Daten an Drittanbieter weitergegeben werden. \n Mehr Informationen  \n Inhalt entsperren Erforderlichen Service akzeptieren und Inhalte entsperren
URL:https://ata-dag.de/veranstaltung/perspektiven-der-transatlantischen-partnerschaft-unter-us-praesident-donald-trump/
LOCATION:Online-Veranstaltung
CATEGORIES:Tagungen und Seminare
ATTACH;FMTTYPE=image/png:https://ata-dag.de/media/2024/08/KAS-Live-zerissene-USA.png
END:VEVENT
BEGIN:VEVENT
DTSTART;TZID=Europe/Berlin:20250128T183000
DTEND;TZID=Europe/Berlin:20250128T200000
DTSTAMP:20260422T150950
CREATED:20250107T114120Z
LAST-MODIFIED:20250123T132116Z
UID:22195-1738089000-1738094400@ata-dag.de
SUMMARY:Die Strategische Lage zum Jahresbeginn 2025
DESCRIPTION:Traditionell eröffnet der Abteilungsleiter Politik im Bundesministerium der Verteidigung mit seiner Einschätzung zur „Strategischen Lage zum Jahresbeginn“ das sicherheitspolitische Vortragsjahr unserer Gesellschaft in Berlin. \nUnd es gibt zu Beginn des Jahres durchaus Anlass zum Feiern: Als 15. Mitgliedstaat trat die Bundesrepublik Deutschland am 6. Mai 1955 der NATO North Atlantic Treaty Organization bei und in diesem Jahr jährt sich dieses Ereignis zum 70. Mal. Doch natürlich richten wir auch den Blick auf die strategischen Herausforderungen Deutschlands in Bezug auf den Frieden in Europa und im Nahen Osten\, die neue Trump-Administration und die Rolle Chinas in der Welt. \nWir freuen uns auf den Vortrag von Dr. Jasper Wieck\, Ihre Teilnahme und die Möglichkeit\, mit Ihnen über die aktuelle sicherheitspolitische Lage ins Gespräch zu kommen sowie sich im Anschluss bei einem kleinen Empfang persönlich auszutauschen. \nAlternativ haben Sie die Möglichkeit digital teilzunehmen: \n\n\n\n\n\n\nSie sehen gerade einen Platzhalterinhalt von YouTube. Um auf den eigentlichen Inhalt zuzugreifen\, klicken Sie auf die Schaltfläche unten. Bitte beachten Sie\, dass dabei Daten an Drittanbieter weitergegeben werden. \n Mehr Informationen  \n Inhalt entsperren Erforderlichen Service akzeptieren und Inhalte entsperren
URL:https://ata-dag.de/veranstaltung/die-strategische-lage-zum-jahresbeginn-2025/
LOCATION:Kaiserin-Friedrich-Haus\, Robert-Koch-Platz 7\, Berlin\, 10115
CATEGORIES:Regionalkreis Berlin
ATTACH;FMTTYPE=image/png:https://ata-dag.de/media/2025/01/Cover-Strategische-Lage-zum-2025.png
END:VEVENT
BEGIN:VEVENT
DTSTART;TZID=Europe/Berlin:20250129T190000
DTEND;TZID=Europe/Berlin:20250129T203000
DTSTAMP:20260422T150951
CREATED:20250114T100324Z
LAST-MODIFIED:20250114T122512Z
UID:22238-1738177200-1738182600@ata-dag.de
SUMMARY:US-Präsident Donald Trump und die NATO
DESCRIPTION:Am 20. Januar dieses Jahres findet die Inauguration von Donald Trump zum Präsidenten der Vereinigten Staaten von Amerika statt. Gemeinsam mit Ihnen wollen einen Blick über den Atlantik werfen und einige Gedanken zur NATO mit der neuen US-Administration mit Ihnen teilen. Außen‑\, wie innenpolitische Herausforderungen stellen sich für die neue Präsidentschaft zur Genüge: Militärische Konflikte in der Ukraine und in Nahost\, potentielle Konflikte in Ostasien mit dem systemischen Rivalen China\, eine uneinige EU und nach wie vor ein Europa\, das absehbar nicht für seine eigene Sicherheit sorgen kann und nur halbherzige Schritte in die richtige Richtung unternimmt\, um nur einige außenpolitische zu nennen. \nWelche Ausrichtung wird die neue Administration haben? Wie steht es\, um das ungleiche Paar Europa und USA? Wie bereit ist die NATO für einen Präsidenten Donald Trump? Gemeinsam mit Brigadegeneral a.D. Rainer Meyer zum Felde wollen wir diese und andere Fragen mit Ihnen erörtern und einen Blick in die Zukunft der NATO werfen. \nAnmeldungen zu dieser Veranstaltung werden bis spätestens 24. Januar erbeten. \n 
URL:https://ata-dag.de/veranstaltung/us-praesident-donald-trump-und-die-nato/
LOCATION:Rüstkammer\, Historisches Rathaus Münster\, Prinzipalmarkt 10\, Münster\, 48143
CATEGORIES:Regionalkreis Münster
ATTACH;FMTTYPE=image/png:https://ata-dag.de/media/2025/01/Trump-NATO-Muenster.png
END:VEVENT
END:VCALENDAR