BEGIN:VCALENDAR
VERSION:2.0
PRODID:-//Deutsche Atlantische Gesellschaft e.V. - ECPv6.15.13//NONSGML v1.0//EN
CALSCALE:GREGORIAN
METHOD:PUBLISH
X-WR-CALNAME:Deutsche Atlantische Gesellschaft e.V.
X-ORIGINAL-URL:https://ata-dag.de
X-WR-CALDESC:Veranstaltungen für Deutsche Atlantische Gesellschaft e.V.
REFRESH-INTERVAL;VALUE=DURATION:PT1H
X-Robots-Tag:noindex
X-PUBLISHED-TTL:PT1H
BEGIN:VTIMEZONE
TZID:Europe/Berlin
BEGIN:DAYLIGHT
TZOFFSETFROM:+0100
TZOFFSETTO:+0200
TZNAME:CEST
DTSTART:20240331T010000
END:DAYLIGHT
BEGIN:STANDARD
TZOFFSETFROM:+0200
TZOFFSETTO:+0100
TZNAME:CET
DTSTART:20241027T010000
END:STANDARD
BEGIN:DAYLIGHT
TZOFFSETFROM:+0100
TZOFFSETTO:+0200
TZNAME:CEST
DTSTART:20250330T010000
END:DAYLIGHT
BEGIN:STANDARD
TZOFFSETFROM:+0200
TZOFFSETTO:+0100
TZNAME:CET
DTSTART:20251026T010000
END:STANDARD
BEGIN:DAYLIGHT
TZOFFSETFROM:+0100
TZOFFSETTO:+0200
TZNAME:CEST
DTSTART:20260329T010000
END:DAYLIGHT
BEGIN:STANDARD
TZOFFSETFROM:+0200
TZOFFSETTO:+0100
TZNAME:CET
DTSTART:20261025T010000
END:STANDARD
END:VTIMEZONE
BEGIN:VEVENT
DTSTART;TZID=Europe/Berlin:20250505T190000
DTEND;TZID=Europe/Berlin:20250505T203000
DTSTAMP:20260424T143327
CREATED:20250424T171429Z
LAST-MODIFIED:20250424T171429Z
UID:22655-1746471600-1746477000@ata-dag.de
SUMMARY:70 Jahre bundesdeutsche Souveränität
DESCRIPTION:Der 2. Weltkrieg war gerade zehn Jahre vorbei und der Versuch der Schaffung einer Europäischen Verteidigungsgemeinschaft (EVG) der Westmächte unter Einbindung Deutschlands gescheitert. Die Londoner Neun-Mächte-Konferenz fand im September 1954 eine Lösung: die Bundesrepublik Deutschland tritt den Verteidigungsallianzen der NATO und der Westeuropäischen Union (WEU) bei und Deutschland verzichtet ausdrücklich auf die Herstellung atomarer\, biologischer und chemischer Waffen.\nDieses wird in den Pariser Verträgen festgeschrieben. Mit ihrem Inkrafttreten am 5. Mai 1955 wird die junge Bundesrepublik Deutschland weitgehend souverän – wenn auch noch mit alliierten Vorbehalten: den Rechten und Verantwortung für Berlin und Deutschland als Ganzes.\nDie GSP Bonn\, die Friedrich Naumann-Stiftung für die Freiheit (FNF)\, das Center for Advanced Security\, Strategic and Integration Studies (CASSIS) der Universität Bonn\, der Verband der Reservisten der Bundeswehr (VdRBw) und die Clausewitz-Gesellschaft laden Sie zu einer Kooperationsveranstaltung an diesem historischen Tag ein. Es spricht: \nProf. Dr. Friedrich Kießling\, Lehrstuhl für Neuere und Neueste Geschichte\, Universität Bonn \nIm Anschluss bitten wir zu einem kleinen Empfang \nAnmeldung\nPräsenzanmeldung (Anmeldung hier) oder Zoom-Anmeldung (Anmeldung hier). Die Zugangsdaten zum Webinar werden Ihnen nach der Registrierung automatisch zugesendet. \nIm Internet können Gäste via Zoom den Vortrag live verfolgen\, sich über eine Frage & Antwort-Funktion (F&A) an der Diskussion beteiligen und auch eigene Fragen/ Kommentare an den Referenten richten. \nWir laden Sie und weitere Interessierte aus Ihrem Freundes- und Bekanntenkreis herzlich zu dieser Kooperationsveranstaltung ein und freuen uns auf Sie! \nIn Kooperation mit:
URL:https://ata-dag.de/veranstaltung/70-jahre-bundesdeutsche-souveraenitaet/
LOCATION:Festsaal der Universtität Bonn\, Regina-Placis Weg 3\, Bonn\, 53113
CATEGORIES:Bonner Forum
ATTACH;FMTTYPE=image/png:https://ata-dag.de/media/2025/04/Bonn-Souveraenitaet-Cover.png
END:VEVENT
BEGIN:VEVENT
DTSTART;TZID=Europe/Berlin:20250507T200000
DTEND;TZID=Europe/Berlin:20250507T213000
DTSTAMP:20260424T143327
CREATED:20250417T135515Z
LAST-MODIFIED:20250430T111541Z
UID:22624-1746648000-1746653400@ata-dag.de
SUMMARY:Der transatlantische Riss
DESCRIPTION:Die transatlantischen Beziehungen erleben derzeit eine ernste Belastungsprobe. Nur wenige Monate nach der Rückkehr Donald Trumps ins Weiße Haus sind die politischen Spannungen zwischen den USA und ihren westlichen Partnern deutlich spürbar. Strafzölle\, Drohgebärden gegenüber NATO-Verbündeten\, diplomatische Verstimmungen mit Kanada\, Irritationen im Umgang mit Grönland und ein neu entfachter Streit um den Panamakanal erschüttern das Vertrauen innerhalb des Bündnisses. \nAm Vorabend des 70. Jahrestags des deutschen NATO-Beitritts lädt die Deutsche Atlantische Gesellschaft Nordhessen zu einem sicherheitspolitischen Abend ein. Gemeinsam wollen wir der Frage nachgehen\, ob sich das Bündnis an einem historischen Scheideweg befindet – und welche sicherheitspolitischen Konsequenzen sich daraus für die Partner diesseits und jenseits des Atlantiks ergeben. \nUnser Ehrengast: Nico Lange \nWir freuen uns besonders\, Nico Lange als Ehrengast in Kassel begrüßen zu dürfen. Als erfahrener sicherheitspolitischer Analyst\, Senior Fellow der Münchener Sicherheitskonferenz (MSC) und ausgewiesener Kenner der transatlantischen Beziehungen gehört er zu den profiliertesten Stimmen in der deutschen Debatte. \nEr wird den Abend mit einem Impuls einleiten und anschließend im moderierten Gespräch seine Einschätzungen zur aktuellen Lage einbringen – gefolgt von einer Diskussion mit dem Publikum. \nIm Anschluss laden wir zu einem Glas Wein und einer Brezel ein – und freuen uns auf den persönlichen Austausch mit Ihnen. \n 
URL:https://ata-dag.de/veranstaltung/der-transatlantische-riss/
LOCATION:Rathaus Kassel\, Bürgersaal\, Obere Königsstraße 8\, Kassel\, 34117
CATEGORIES:Regionalkreis Nordhessen
ATTACH;FMTTYPE=image/png:https://ata-dag.de/media/2025/04/ChatGPT-Bild-Apr-17-2025-2-e1744898103564.png
END:VEVENT
BEGIN:VEVENT
DTSTART;TZID=Europe/Berlin:20250509T180000
DTEND;TZID=Europe/Berlin:20250510T164500
DTSTAMP:20260424T143327
CREATED:20250409T093720Z
LAST-MODIFIED:20250409T093720Z
UID:22582-1746813600-1746895500@ata-dag.de
SUMMARY:Nürnberger Sicherheitstagung 2025
DESCRIPTION:Die Nürnberger Sicherheitstagung ist eine Kooperationsveranstaltung des Deutschen BundeswehrVerbands\, der Deutschen Atlantischen Gesellschaft e.V.\, der Gesellschaft für Sicherheitspolitik e.V.\, der Clausewitz-Gesellschaft e.V.\, des Verlags Nürnberger Presse\, des Reservistenverbands Landesgruppe Bayern\, der Friedrich-Naumann-Stiftung für die Freiheit und der Thomas-Dehler-Stiftung. \nDie transatlantischen Beziehungen\, lange das Fundament westlicher Sicherheit und Stabilität\, stehen vor einer ungewissen Zukunft. In den USA spalten innenpolitische Krisen\, wirtschaftliche Umbrüche und gesellschaftliche Polarisierung das Land. Zugleich stellt die amerikanische Außenpolitik immer deutlicher die traditionelle Rolle der USA als Schutzmacht\, Wertepartner und strategischer Partner infrage. Eine Annäherung an Autokratien\, isolationistische Tendenzen und ein verändertes geopolitisches Selbstverständnis werfen die Frage auf: Welchen Weg hat Amerika eingeschlagen – und was bedeutet das für Europa? Kann sich Deutschland weiterhin auf die Sicherheitsgarantien der NATO verlassen\, oder braucht es neue Allianzen und Strategien\, um sich den globalen Herausforderungen eigenständig zu stellen? \nDie diesjährige Nürnberger Sicherheitskonferenz beleuchtet die aktuellen Entwicklungen in den USA\, hinterfragt die transatlantische Partnerschaft und diskutiert die Zukunft multilateraler Zusammenarbeit. Ist die sicherheitspolitische Architektur Europas ohne Amerika noch tragfähig? Oder muss die europäische Sicherheits- und Verteidigungspolitik ganz neu gedacht werden?\nHochkarätige Experten aus Wissenschaft und Politik\, Diplomatie und der Bundeswehr analysieren die aktuellen Herausforderungen und Perspektiven. \nMit Beiträgen von Generalleutnant Kai Rohrschneider (Kommandeur Multinationales Kommando Operative Führung und Joint Support and Enabling Command der NATO\, Ulm)\, Christian Schmidt (Hoher Repräsentant für Bosnien und Herzegowina)\, Prof. Dr. Stephan Bierling (Professor für Internationale Politik)\, Prof. Dr. Gerlinde Groitl (Professorin für Governance und Mehrebenensysteme\, Universität Freiburg)\, Erik Kirschbaum (amerikanischer Journalist und Auslandskorrespondent)\, Prof. Dr. Ulrich Schlie (Professor für Sicherheits- und Strategieforschung)\, Martin Erdmann (Botschafter a.D.) u.v.m. \nDiskutieren Sie mit uns die zentralen Fragen unserer Zeit\, wir heißen Sie herzlich in Nürnberg willkommen. \nAnmeldeschluss: Mittwoch\, der 30.04.2025 \nBitte melden Sie sich über die Website der Friedrich-Naumann-Stiftung an.
URL:https://ata-dag.de/veranstaltung/nuernberger-sicherheitstagung-2025/
LOCATION:Korn’s\, Kornmarkt 5-7\, Nürnberg\, 90402
CATEGORIES:Tagungen und Seminare
ATTACH;FMTTYPE=image/jpeg:https://ata-dag.de/media/2024/05/nuesi24-e1716276540967.jpg
END:VEVENT
BEGIN:VEVENT
DTSTART;TZID=Europe/Berlin:20250513T190000
DTEND;TZID=Europe/Berlin:20250513T203000
DTSTAMP:20260424T143327
CREATED:20250417T134111Z
LAST-MODIFIED:20250422T071901Z
UID:22611-1747162800-1747168200@ata-dag.de
SUMMARY:Kriegstauglichkeit und KI
DESCRIPTION:gerade erleben wir eine Reihe von Zeitenwenden\, zu denen die Sicherheits- und Militärpolitik ebenso gehören\, wie die Technologie. Mit Generalleutnant a.D. Dr. Ansgar Rieks haben wir einen Vortragenden gewinnen können\, der die beiden Bereiche in den Zusammenhang setzt. Ausgehend von den Erfahrungen des Ukraine Konflikts\, in dem Russland völkerrechtswidrig und jenseits aller internationaler Konventionen agiert\, und in dem wir eine neue Form der Kriegführung feststellen\, wird General Rieks mit seinem Vortrag die neue und grundlegende Bedeutung von Digitalisierung für die Operationsführung von Streitkräften darlegen. Insbesondere die Nutzung von Künstlicher Intelligenz und die Nutzung von Automation in der Kriegführung lassen alte und neue ethische Herausforderungen entstehen. Der Abend wird sich allen drei Elementen widmen: moderne Operationsführung\, Technologie und Ethik. \nGeneralleutnant a.D. Dr. Ansgar Rieks hat 45 Jahre in verschiedenen Führungs- und Fachverwendungen in der Bundeswehr und im Bundesministerium der Verteidigung Dienst geleistet. Er ist promovierter Elektrotechniker und hat einen Master of Arts in »National Security Affairs«. Zugleich ist er seit über 10 Jahren in der Militärseelsorge und im Zentralkomitee der Deutschen Katholiken engagiert\, seit diesem Jahr auch bei Justitia et Pax. \nNach einem Impulsvortrag wird Generalleutnant a.D. Rieks mit Professor Dr. Bernhard Koch vom Institut für Wehrmedizinische Ethik der Bundeswehr\, München\, diskutieren. \nBernhard Koch studierte Philosophie\, Logik und Wissenschaftstheorie an der Hochschule für Philosophie/Philosophische Fakultät S.J. und an der Ludwig-Maximilians-Universität in München sowie an der Universität Wien und an der Akademie der bildenden Künste in Wien. Seit September 2007 ist er am Institut für Theologie und Frieden in Hamburg tätig. Von 2008 bis 2010 war er Lehrbeauftragter an der Helmut-Schmidt-Universität der Bundeswehr in Hamburg; seit Wintersemester 2011 ist er Lehrbeauftragter für Philosophie an der Goethe-Universität Frankfurt am Main. Im Wintersemester 2018/19 nahm Bernhard Koch einen Lehrauftrag an der Universität Hamburg wahr. Seit 2020 unterrichtet er regelmäßig an der Universität Freiburg. 2014 war Bernhard Koch Visiting Fellow am Oxford Institute for Ethics\, Law and Armed Conflict (ELAC). Seit 2012 ist er Co-Teacher Ethics am ICMM Center of Reference for Education on IHL and Ethics\, Zürich. Zum 1. Januar 2025 ist Koch an das Institut für Wehrmedizinische Ethik der Bundeswehr in München gewechselt. \nZu dieser Veranstaltung\, die das Forum Hamburg der Deutschen Atlantischen Gesellschaft in Zusammenarbeit mit der Katholischen Akademie Hamburg durchführt\, lade ich Sie herzlich ein. Ich würde mich sehr freuen\, Sie vor Ort begrüßen zu dürfen.
URL:https://ata-dag.de/veranstaltung/kriegstauglichkeit-und-ki/
LOCATION:Katholische Akademie\, Herrengraben 4\, Hamburg\, 20459
CATEGORIES:Forum Hamburg
ATTACH;FMTTYPE=image/png:https://ata-dag.de/media/2025/04/250513-KI-Cover.png
END:VEVENT
BEGIN:VEVENT
DTSTART;TZID=Europe/Berlin:20250515T190000
DTEND;TZID=Europe/Berlin:20250515T203000
DTSTAMP:20260424T143327
CREATED:20250414T091745Z
LAST-MODIFIED:20250414T092154Z
UID:22598-1747335600-1747341000@ata-dag.de
SUMMARY:Die Weltmacht USA
DESCRIPTION:<MAGA> Make Amerika Great Again! Das ist der zentrale Ausspruch von Donald Trump. Man sollte meinen\, dass die USA am Boden liegt und nur er kann sein Land wieder „groß“ machen. Das Gegenteil ist der Fall: Amerika ist und war schon immer eine Weltmacht. Worauf sich dieses begründet\, erklärt uns der nächste Referent anhand von vielen Zahlen\, volkswirtschaftlichen Zusammenhängen und vieler Beispiele. Wir sind gespannt auf die Ausführungen von Herrn: Dr. Ralf Bambach Privatdozent. \nAnmeldungen bitte unter Tel.-Nr:  04135/ 7988  oder per mail:   Christian@mail-engel.de \n  \nWir freuen uns\, diesen Abend gemeinsam mit der Arbeitsgemeinschaft der Reserveoffiziere\, dem Reservistenverband KrGrp Lüneburg\, und der Gesellschaft für Sicherheitspolitik auszurichten.
URL:https://ata-dag.de/veranstaltung/die-weltmacht-usa/
LOCATION:Casino Theodor-Körner-Kaserne\, Fuchsweg 11\, Lüneburg\, 21337\, Deutschland
CATEGORIES:Forum Lüneburg
ATTACH;FMTTYPE=image/png:https://ata-dag.de/media/2025/04/Cover-USA-Weltmacht.png
END:VEVENT
BEGIN:VEVENT
DTSTART;TZID=Europe/Berlin:20250516T190000
DTEND;TZID=Europe/Berlin:20250516T220000
DTSTAMP:20260424T143327
CREATED:20250422T131717Z
LAST-MODIFIED:20250422T131717Z
UID:22638-1747422000-1747432800@ata-dag.de
SUMMARY:Quo vadis DEU & EU
DESCRIPTION:Wir freuen uns\, zu einer besonderen Veranstaltung anlässlich des Europatages in die Post Moyland einladen zu können. Zum Thema Merz & von der Leyen dürfen nicht scheitern. Was können Berlin & Brüssel tun gegen Putin & Trump\, Xi & Erdogan? haben wir zwei hochkarätige Europaexperten gewinnen können\, welche die aktuelle (geo-)politische Lage beleuchten werden. \nEUROPA steht vor gewaltigen Herausforderungen: Ein Handelskrieg ist ausgebrochen\, quasi Trumps USA gegen den Rest der Welt\, Europa sucht eine neue Geschlossenheit und nach dem Zusammenbruch der Ampel in Berlin wollen CDU und SPD den Scherbenhaufen zusammenkehren und aus Deutschland wieder einen wirtschaftlich starken und verlässlichen Partner mit Führungsambitionen in Europa machen. \nPutin führt seinen völkerrechtswidrigen und grausamen Krieg mit der Ukraine ins dritte Jahr. Dieser Krieg hat neben seinen lebensbedrohenden Gefahren\, auch für die Sicherheit Europas\, einen nicht zu unterschätzenden Einfluss auf die europäische- und die Weltwirtschaft. \nIns Reich der Mitte darf er seit Jahren nicht mehr: Reinhard Bütikofer\, exzellenter China-Kenner\, häufiger Gast in DC & sozusagen der ‚grüne Elmar Brok des EU-Parlaments‘ im Gespräch mit Ralph Sina. \n  \nProgramm\n19.00 Uhr: Ankunft der Gäste und Stehempfang\n19.15 Uhr: Begrüßung und thematische Einführung\ndurch die Veranstalter Wilfried Röth\, Dr. Kurt Kreiten und Mike Urban \n19.20 – ca. 20.00 Uhr: „Talkrunde – Quo vadis DEU & EU!“\nRalph Sina diskutiert mit Reinhard Bütikofer \n20.00 – 20.30 Uhr:  Fragen aus dem Plenum an die Europaexperten\n20.30 – 22.00 Uhr: Abendimbiss und offener Gedankenaustausch\n\nAnmeldung\nEinladungen können beim Regionalleiter angefragt werden\nDer Teilnahmebeitrag beträgt 20\,00 € pro Person und beinhaltet u.a. Abendimbiss und Stehempfang.\nWir freuen uns sehr auf einen spannenden Abend mit den „Brüsseler Spitzen“ und auf die persönlichen Begegnungen mit Ihnen.
URL:https://ata-dag.de/veranstaltung/quo-vadis-deu-eu/
LOCATION:Post Moyland\, Moyland Allee 16\, Bedburg-Hau\, 47551
CATEGORIES:Regionalkreis Niederrhein
ATTACH;FMTTYPE=image/png:https://ata-dag.de/media/2024/04/quo-vadis-europa.png
END:VEVENT
BEGIN:VEVENT
DTSTART;TZID=Europe/Berlin:20250519T183000
DTEND;TZID=Europe/Berlin:20250519T200000
DTSTAMP:20260424T143327
CREATED:20250505T150111Z
LAST-MODIFIED:20250513T122135Z
UID:22727-1747679400-1747684800@ata-dag.de
SUMMARY:Gesamtverteidigung - Umsetzung Operationsplan Deutschland
DESCRIPTION:In Gedenken an den in Burg bei Magdeburg geborenen preußischen General Carl von Clausewitz führen die Deutsche Atlantische Gesellschaft e.V.\, die Clausewitz-Gesellschaft e.V. und die Vertretung des Landes Sachsen-Anhalt beim Bund seit 2010 in Berlin die Clausewitz-Strategiegespräche durch. \nDer „Operationsplan Deutschland (OPLAN DEU)“ ist eine Reaktion auf die sich verschärfende sicherheitspolitische Lage in Europa. Er führt die zentralen militärischen Anteile der Landes- und Bündnisverteidigung in Deutschland mit den dafür erforderlichen zivilen Unterstützungsleistungen in einem operativ ausführbaren Plan zusammen. Er trifft damit die planerische Vorsorge dafür\, dass im Krisen- und Konfliktfall nach erfolgter politischer Entscheidung zielgerichtet und im verfassungsrechtlichen Rahmen gehandelt werden kann. In ihm werden Verfahren\, Abläufe und Zuständigkeiten festgelegt\, um gemeinsam mit anderen staatlichen und zivilen Akteuren Deutschland\, dessen territoriale Integrität und seine Bürgerinnen und Bürger zu schützen und zu verteidigen sowie den Transport alliierter Streitkräfte und militärischer und ziviler Güter durch Deutschland an die NATO-Ostflanke sicherzustellen. Das Ziel ist die schnelle und koordinierte Handlungsfähigkeit über alle Ressort- und Ländergrenzen hinweg. \nWo stehen wir in der Umsetzung dieses Operationsplans Deutschland und in welchem Maße haben sich die betroffenen Behörden und Dienste auf diese neuen Herausforderungen eingestellt? Welche Erfahrungen sind bei den bisherigen Umsetzungen gewonnen worden? \nWir freuen uns\, die etablierte Reihe der Clausewitz-Strategiegespräche auch in diesem Jahr fortführen zu können. Mit Generalleutnant André Bodemann\, (Stellvertretender Befehlshaber Operatives Führungskommando der Bundeswehr)\, Herrn Albrecht Brömme (Vorstandsvorsitzender der Stiftung Technisches Hilfswerk)\, Generalleutnant a.D. Martin Schelleis (Bundesbeauftragter des Malteser Hilfsdienstes) und Herrn Eric Schaefer\, Abteilungsleiter im Ministerium des Inneren und für Sport (Rheinland-Pfalz) konnten kompetente Vortragende für die Impulsvorträge und die Diskussion gewonnen werden. Generalleutnant a.D. Erhard Bühler\, Präsident der Clausewitz-Gesellschaft\, wird die Diskussion moderieren. Zum anschließenden Empfang sind Sie herzlich eingeladen. \n  \nBegrüßung\nStaatssekretärin Simone Großner\nStaatssekretärin für Bundes- und Europaangelegenheiten und\nBevollmächtigte des Landes Sachsen-Anhalt beim Bund  \nGeneralleutnant a.D. Erhard Bühler\nPräsident der Clausewitz-Gesellschaft\nCommander of NATO Allied Joint Forces Command (2019−2020) \nDiskussionsteilnehmer\nGeneralleutnant André Bodemann\nStellvertretender Befehlshaber Operatives Führungskommando der Bundeswehr \nAlbrecht Brömme\nVorstandsvorsitzender der Stiftung Technisches Hilfswerk \nGeneralleutnant a.D. Martin Schelleis\nBundesbeauftragter des Malteser Hilfsdienstes \nEric Schaefer\nAbteilungsleiter im Ministerium des Inneren und für Sport (Rheinland-Pfalz) \nModeration\nGeneralleutnant a.D. Erhard Bühler \n  \nEmpfang
URL:https://ata-dag.de/veranstaltung/gesamtverteidigung-umsetzung-operationsplan-deutschland/
LOCATION:Vertretung des Landes Sachsen-Anhalt beim Bund\, Luisenstr. 18\, Berlin\, Berlin\, 10117\, Deutschland
CATEGORIES:Regionalkreis Berlin
ATTACH;FMTTYPE=image/png:https://ata-dag.de/media/2024/05/Mainz-OPLAN.png
END:VEVENT
BEGIN:VEVENT
DTSTART;TZID=Europe/Berlin:20250520T190000
DTEND;TZID=Europe/Berlin:20250520T210000
DTSTAMP:20260424T143327
CREATED:20250430T095623Z
LAST-MODIFIED:20250519T130113Z
UID:22688-1747767600-1747774800@ata-dag.de
SUMMARY:Security Slam 2025
DESCRIPTION:Es ist soweit! Die zweite Ausgabe des ersten Security Slam Deutschlands steht vor der Tür und wir laden Dich herzlich dazu ein. Sei dabei\, wenn junge Forscher:innen einander die Slam-Krone der Zeitenwende streitig machen und in spannenden Kurzbeiträgen ihre aktuellen Forschungsergebnisse präsentieren. \nAm 20.05.2025 im Körber Forum Hamburg hast Du die Chance\, sechs spannende Kurzbeiträge zu hören und Dich von den Forscher:innen begeistern zu lassen. Egal ob Du Dich für Cyber-Warfare\, Zeitenwende\, Digitalisierung & Deepfakes\, Völkerrecht oder die Rolle von Gender im Krieg interessierst – der Security Slam bietet die Plattform\, um all diese Themen anhand aktuellster Forschung aufzugreifen. \nMit dem ersten Security Slam wollen wir einen wissenschaftlichen Blick auf die Gestaltung der europäischen Sicherheits- und Friedensarchitektur ermöglichen und somit zur Versachlichung einer polarisierten Debatte beitragen. Die Veranstaltung wird in Zusammenarbeit mit unseren Partnern\, der Körber Stiftung und scienceslam.de organisiert. \nSechs junge Forscher:innen werden auf unserer Bühne um die Slam-Krone der Zeitenwende kämpfen in nur 10 Minuten ihre aktuellen Forschungsergebnisse präsentieren… Und Du entscheidest wer gewinnt! \n  \nHier geht’s zum Livestream: \nhttps://koerber-stiftung.de/veranstaltungen/der-security-slam/#s47232 \n  \n  \nAlso\, worauf wartest Du? Sichere Dir jetzt Deinen Platz beim Security Slam! Melde Dich ab dem 6. Mai an und erlebe den ersten Security Slam Deutschlands live! Die Anmeldung ist natürlich kostenlos. \n \nWir freuen uns auf Dich und diese spannenden Forscher:innen und Themen!
URL:https://ata-dag.de/veranstaltung/security-slam-2025/
LOCATION:KörberForum\, Kehrwieder 12\, Hamburg\, 20457
CATEGORIES:Forum Hamburg
ATTACH;FMTTYPE=image/png:https://ata-dag.de/media/2025/01/Security-Slam-Website-Cover.png
END:VEVENT
END:VCALENDAR