BEGIN:VCALENDAR
VERSION:2.0
PRODID:-//Deutsche Atlantische Gesellschaft e.V. - ECPv6.15.13//NONSGML v1.0//EN
CALSCALE:GREGORIAN
METHOD:PUBLISH
X-ORIGINAL-URL:https://ata-dag.de
X-WR-CALDESC:Veranstaltungen für Deutsche Atlantische Gesellschaft e.V.
REFRESH-INTERVAL;VALUE=DURATION:PT1H
X-Robots-Tag:noindex
X-PUBLISHED-TTL:PT1H
BEGIN:VTIMEZONE
TZID:Europe/Berlin
BEGIN:DAYLIGHT
TZOFFSETFROM:+0100
TZOFFSETTO:+0200
TZNAME:CEST
DTSTART:20240331T010000
END:DAYLIGHT
BEGIN:STANDARD
TZOFFSETFROM:+0200
TZOFFSETTO:+0100
TZNAME:CET
DTSTART:20241027T010000
END:STANDARD
BEGIN:DAYLIGHT
TZOFFSETFROM:+0100
TZOFFSETTO:+0200
TZNAME:CEST
DTSTART:20250330T010000
END:DAYLIGHT
BEGIN:STANDARD
TZOFFSETFROM:+0200
TZOFFSETTO:+0100
TZNAME:CET
DTSTART:20251026T010000
END:STANDARD
BEGIN:DAYLIGHT
TZOFFSETFROM:+0100
TZOFFSETTO:+0200
TZNAME:CEST
DTSTART:20260329T010000
END:DAYLIGHT
BEGIN:STANDARD
TZOFFSETFROM:+0200
TZOFFSETTO:+0100
TZNAME:CET
DTSTART:20261025T010000
END:STANDARD
END:VTIMEZONE
BEGIN:VEVENT
DTSTART;TZID=Europe/Berlin:20250703T183000
DTEND;TZID=Europe/Berlin:20250703T183000
DTSTAMP:20260424T181522
CREATED:20250701T140311Z
LAST-MODIFIED:20250701T140437Z
UID:23021-1751567400-1751567400@ata-dag.de
SUMMARY:Zeitenwenden in der Dauerschleife?
DESCRIPTION:Zeitenwenden sind ständige Zutaten der Zeitgeschichte. Sie treten in der Regel alle dreißig bis vierzig Jahre auf und markieren grundlegende Umbrüche in der Erlebniswelt ganzer Gesellschaften bis hin zur globalen Zivilisation. \nSolche Wendepunkte markieren in der jüngeren Geschichte die Corona-Pandemie 2020–2022\, das Ende der Teilung Deutschlands und Europas sowie der Untergang der Sowjetunion vor dreißig Jahren\, das Ende des 2. Weltkriegs vor achtzig Jahren etc. Noch größere Intervalle sind z.B. die Französische Revolution von 1789\, die Entdeckung Amerikas und natürlich technische Innovationen wie die Erfindung des mechanischen Webstuhls\, des Verbrennungsmotors und der digitalen Technik. \nDerzeit erleben wir Zeitenwenden als Dauerschleife der Gegenwartsgeschichte. Für unmöglich gehaltene Entwicklungen werden zu immer neuen Begleitern unseres Alltags: Die nicht mehr für gänzlich undenkbar gehaltene Erosion der US-amerikanischen Demokratie\, die Neuordnung des Nahen und Mittleren Ostens (Terroranschlag der Hamas vom 7.Oktober 2023 und dessen Folgen\, Untergang der Assad-Diktatur in Syrien nach 50 Jahren)\, der Angriffskrieg Russlands gegen die Ukraine seit Februar 2022 und damit einhergehend das Ende der Europäischen Friedens – und Sicherheitsordnung. In Summe die kaskadenartige Zunahme von kriegerischen Auseinandersetzungen\, Krisen und die rücksichtslose Machtübernahme von Autokraten und kaltblütigen Diktatoren. \nIst dieses alternative Szenario der von Aldous Huxley 1932 beschriebenen\, satirisch so bezeichneten SCHÖNEN NEUEN WELT (BRAVE NEW WORLD) tatsächlich unsere Zukunft? BÖSE NEUE WELT? \nHierüber möchten wir mit Ihnen im Rahmen der traditionellen sicherheitspolitischen Sommergespräche „Unter den Kanzlern“ diskutieren und laden Sie hierzu herzlich ein! \n  \n  \nProgramm:\nBegrüßung\n Constantin Ullrich\, Senior des K.St.V. Arminia Bonn \nJohannes Lay\, Hauptgeschäftsführer der Deutschen Atlantischen Gesellschaft e.V. \nVortrag\n Martin Erdmann\, Deutscher NATO-Botschafter (2010 – 2015); Botschafter in der Türkei (2015 – 2020) \nImbiss
URL:https://ata-dag.de/veranstaltung/zeitenwenden-in-der-dauerschleife/
LOCATION:K.St.V. Arminia zu Bonn im KV\, Kaiserstraße 85\, Bonn\, 53113\, Deutschland
CATEGORIES:Bonner Forum
ATTACH;FMTTYPE=image/png:https://ata-dag.de/media/2025/07/Boese-neue-Welt-Bonn.png
END:VEVENT
BEGIN:VEVENT
DTSTART;TZID=Europe/Berlin:20250710T183000
DTEND;TZID=Europe/Berlin:20250710T200000
DTSTAMP:20260424T181522
CREATED:20250617T075639Z
LAST-MODIFIED:20250617T075639Z
UID:22940-1752172200-1752177600@ata-dag.de
SUMMARY:Das Verhältnis Putins zu Israel und der Einfluss Russlands auf den Nahost-Konflikt
DESCRIPTION:Der Terrorangriff der Hamas auf Israel und das Wiederaufleben eines heißen Nahost‐Konfliktes im Oktober 2023 führte zur Aufmerksamkeit der regionalen Akteure\, sowie der globalen Gemeinschaft. Insbesondere Russlands Reaktion wird mit Argusaugen verfolgt. Russland\, als Rechtsnachfolgestaat der Sowjetunion\, hat eine tief verwurzelte Geschichte im Nahen Osten. Wladimir Putin äußerte die Notwendigkeit der Souveränität eines palästinensischen Staates. Er kritisierte die Bemühungen der USA und betonte mit einer gewissen Befriedigung\, dass die USA\, trotz ihrer angeblichen weitreichenden Überwachungskapazitäten\, nicht fähig gewesen seien\, Israel vor dem Überfall der Hamas zu schützen. Ende Oktober 2023 waren sowohl der stellvertretende iranische Außenminister Ali Bageri Kani wie auch eine Delegation der Hamas zu Gast in Moskau. Die russischen Staatsmedien zeigten eher die Leiden der palästinensischen Bevölkerung im Gaza als die israelischen Terroropfer.\nDoch Wladimir Putin hält nach wie vor auch Kontakt zum israelischen Premierminister Benjamin Netanyahu aufrecht\, wohlwissend\, dass die Beziehungen Russlands zu den arabischen Staaten und Israel komplex sind. \nRussland steht angesichts der jüngsten Eskalation im Nahen Osten vor komplexen geo-politischen Herausforderungen. Fest steht\, dass der Terrorangriff der Hamas auf Israel und der wieder aufgeflammte Nahost-Konflikt die Aufmerksamkeit von der Ukraine in den Nahen Osten verlagert hat\, und dies im russischen Interesse liegt. Darüber hinaus ist Russland bestrebt\, seine Rolle als Akteur in der Nahost-Region zu festigen\, der in der Lage ist\, mit unterschiedlichen Parteien zu interagieren. Russland nutzt den Nahost-Konflikt auch propagandistisch\, um Deutschland als Israel-hörigen Staat zu diskreditieren\, der unreflektiert die israelische Regierung in ihrem Kampf gegen die Hamas unterstützt. Unser besonderer Dank gilt den Kooperationspartnern\, der Landesgruppe Saarland des Verbands der Reservisten der Deutschen Bundeswehr e.V. sowie insbesondere der Gesellschaft für Sicherheitspolitik\, vertreten durch den Leitenden Polizeidirektor a.D. Herrn Detlef Karioth. \nWir würden uns sehr freuen\, wenn das Thema auf Ihr Interesse stieße! Weisen Sie gerne auch in Ihrem Freundes- und Bekanntenkreis auf diese Veranstaltung hin. Über Ihr zahlreiches Erscheinen würde ich mich sehr freuen. Anmelden können Sie sich über diesen Link.
URL:https://ata-dag.de/veranstaltung/das-verhaeltnis-putins-zu-israel-und-der-einfluss-russlands-auf-den-nahost-konflikt/
LOCATION:Offizierheimgesellschaft e. V. Saarlouis\, Wallerfanger Straße 31\, Saarlouis\, 66740
CATEGORIES:Regionalkreis Saarbrücken
ATTACH;FMTTYPE=image/png:https://ata-dag.de/media/2025/06/Cover.png
END:VEVENT
BEGIN:VEVENT
DTSTART;TZID=Europe/Berlin:20250710T183000
DTEND;TZID=Europe/Berlin:20250710T200000
DTSTAMP:20260424T181522
CREATED:20250702T095925Z
LAST-MODIFIED:20250710T164833Z
UID:23025-1752172200-1752177600@ata-dag.de
SUMMARY:Atlantic Talk: Der Krieg\, der alles verändert
DESCRIPTION:Der Krieg zwischen Israel und dem Iran hat die Machtbalance im Nahen und Mittleren Osten entscheidend verändert. Gleichzeitig ist die Zukunft dieses Konflikts\, des Regimes im Iran und des iranischen Atomprogramms völlig ungewiss. Zwar wurden die iranische Luftabwehr und das Raketenprogramm empfindlich getroffen und die Fähigkeiten einer nuklearen Bewaffnung des Irans sind verzögert worden\, doch der Verbleib des angereicherten Urans ist unbekannt und der Wunsch der israelischen Regierung nach einem Aufstand gegen die Mullahs durch die Zivilbevölkerung hat sich bisher nicht verwirklicht. \nGibt es Möglichkeiten einer dauerhaften friedlichen Lösung des Konflikts? Welche Rolle spielen dabei die USA und Europa? \nWir freuen uns auf eine spannende Diskussion mit Jürgen Hardt MdB (Außenpolitischer Sprecher CDU/CSU Fraktion)\,  Gilda Sahebi (Journalistin)\, Philipp Peyman Engel (Chefredakteur Jüdische Allgemeine Zeitung) und Werner Sonne (Journalist). Moderiert wird die Veranstaltung von Sina-Maria Schweikle (Süddeutsche Zeitung). \nWir freuen uns auf Ihre Teilnahme und Ihre Fragen! \n 
URL:https://ata-dag.de/veranstaltung/atlantic-talk-der-krieg-der-alles-veraendert/
LOCATION:Presse- und Besucherzentrum des Bundespresseamtes\, Reichstagufer 14\, Berlin\, 10117
CATEGORIES:Regionalkreis Berlin
ATTACH;FMTTYPE=image/jpeg:https://ata-dag.de/media/2025/07/iran-israel-flaggen-auf-schachbrett-als-symbol-fuer-krieg-mit-panzern-und-explosionen_cc-by-20-scaled-e1751449702794.jpg
END:VEVENT
BEGIN:VEVENT
DTSTART;TZID=Europe/Berlin:20250715T190000
DTEND;TZID=Europe/Berlin:20250715T203000
DTSTAMP:20260424T181522
CREATED:20250618T083233Z
LAST-MODIFIED:20250618T083305Z
UID:22984-1752606000-1752611400@ata-dag.de
SUMMARY:Tatort Zukunft – Neue Wege der Verbrechensbekämpfung
DESCRIPTION:Andreas Stenger thematisiert aktuelle Entwicklungen und Herausforderungen in der Kriminalitätsbekämpfung. Im Fokus stehen vor allem Cyberattacken als wachsende Bedrohung in einer digitalisierten und hybriden Welt. Täter agieren hierbei meist transnational und professionell – internationale Zusammenarbeit ist daher essenziell. Ein weiterer Schwerpunkt liegt auf politisch motivierter Kriminalität sowie auf subkultureller Gewalt und Messerattacken im öffentlichen Raum – dabei wird dargestellt\, welche Maßnahmen die Polizei und das Landeskriminalamt Baden-Württemberg im Kampf gegen diese Phänomene ergreifen. Anhand realer Phänomene\, Fälle und Ermittlungsverfahren sowie kriminalsoziologischer Ansätze werden Strategien\, Maßnahmen und Konzepte für Prävention\, Strafverfolgung und gesellschaftliche Resilienz aufgezeigt. \nWir freuen uns auf Ihr Kommen und einen inspirierenden Gedankenaustausch. \n  \nAnmeldung\nBitte beachten Sie\, dass eine Anmeldung unter office@karl-lamers.de notwendig ist. Kommen Sie bitte rechtzeitig\, da eine Platzreservierung damit nicht verbunden ist. \nWichtige Informationen: Aus Sicherheitsgründen bitten wir Sie\, keine großen Taschen oder Gepäckstücke mitzubringen. Kontrollen werden von unseren Ordnern vorgenommen.
URL:https://ata-dag.de/veranstaltung/tatort-zukunft-neue-wege-der-verbrechensbekaempfung/
LOCATION:SRH Hochschule Heidelberg\, Ludwig-Guttmann-Str. 6\, Heidelberg-Wieblingen
CATEGORIES:Forum Heidelberg
ATTACH;FMTTYPE=image/png:https://ata-dag.de/media/2025/06/Tatort-Zukunft.png
END:VEVENT
END:VCALENDAR