BEGIN:VCALENDAR
VERSION:2.0
PRODID:-//Deutsche Atlantische Gesellschaft e.V. - ECPv6.15.13//NONSGML v1.0//EN
CALSCALE:GREGORIAN
METHOD:PUBLISH
X-WR-CALNAME:Deutsche Atlantische Gesellschaft e.V.
X-ORIGINAL-URL:https://ata-dag.de
X-WR-CALDESC:Veranstaltungen für Deutsche Atlantische Gesellschaft e.V.
REFRESH-INTERVAL;VALUE=DURATION:PT1H
X-Robots-Tag:noindex
X-PUBLISHED-TTL:PT1H
BEGIN:VTIMEZONE
TZID:Europe/Berlin
BEGIN:DAYLIGHT
TZOFFSETFROM:+0100
TZOFFSETTO:+0200
TZNAME:CEST
DTSTART:20240331T010000
END:DAYLIGHT
BEGIN:STANDARD
TZOFFSETFROM:+0200
TZOFFSETTO:+0100
TZNAME:CET
DTSTART:20241027T010000
END:STANDARD
BEGIN:DAYLIGHT
TZOFFSETFROM:+0100
TZOFFSETTO:+0200
TZNAME:CEST
DTSTART:20250330T010000
END:DAYLIGHT
BEGIN:STANDARD
TZOFFSETFROM:+0200
TZOFFSETTO:+0100
TZNAME:CET
DTSTART:20251026T010000
END:STANDARD
BEGIN:DAYLIGHT
TZOFFSETFROM:+0100
TZOFFSETTO:+0200
TZNAME:CEST
DTSTART:20260329T010000
END:DAYLIGHT
BEGIN:STANDARD
TZOFFSETFROM:+0200
TZOFFSETTO:+0100
TZNAME:CET
DTSTART:20261025T010000
END:STANDARD
END:VTIMEZONE
BEGIN:VEVENT
DTSTART;TZID=Europe/Berlin:20250810T071500
DTEND;TZID=Europe/Berlin:20250810T170000
DTSTAMP:20260424T192848
CREATED:20250715T081319Z
LAST-MODIFIED:20250729T134004Z
UID:23080-1754810100-1754845200@ata-dag.de
SUMMARY:Europafahrt nach Brüssel 2025
DESCRIPTION:Europa steht vor großen sicherheitspolitischen Herausforderungen – von geopolitischen Spannungen bis hin zu institutionellen Reformfragen. Mit der Europafahrt 2025 möchten wir die Gelegenheit nutzen\, aktuelle Entwicklungen an einem zentralen Ort europäischer Entscheidungsfindung zu reflektieren: in Brüssel. Die Fahrt bietet ein vielfältiges Programm mit historischen\, politischen und sicherheitspolitischen Schwerpunkten – von Waterloo über das Europäische Parlament bis zum SHAPE-Hauptquartier der NATO. In Gesprächen mit Expertinnen und Experten\, bei Besichtigungen und im gemeinsamen Austausch wollen wir zentrale Fragen europäischer Sicherheits- und Verteidigungspolitik vertiefen und neue Perspektiven gewinnen. \n  \nTagungsbeitrag: 250 Euro (inkl. Unterkunft und teilweise Verpflegung; ohne Transport) \nAnmeldung: https://aoweb.kas.de/KAS_VaAnmeldung/Teilnehmerdaten.aspx?id_v=80446 &a_A=1 \nDas Programm und alle weiteren Infos finden Sie unter diesem Link: https://ata-dag.de/media/2025/07/Programm-25–08-10-Bruessel.pdf
URL:https://ata-dag.de/veranstaltung/europafahrt-nach-bruessel-2025/
LOCATION:Hotel Villa Royale\, 195 Rue Royale\, Brüssel\, 1210\, Belgien
CATEGORIES:Regionalkreis Münster
ATTACH;FMTTYPE=image/png:https://ata-dag.de/media/2025/07/Bruessel-Cover.png
END:VEVENT
BEGIN:VEVENT
DTSTART;TZID=Europe/Berlin:20250829T180000
DTEND;TZID=Europe/Berlin:20250829T213000
DTSTAMP:20260424T192848
CREATED:20250729T114847Z
LAST-MODIFIED:20250820T082751Z
UID:23106-1756490400-1756503000@ata-dag.de
SUMMARY:Kritische Infrastruktur im Fadenkreuz - Was können wir selbst zur Sicherheit beitragen?
DESCRIPTION:Stromausfälle\, Cyberattacken\, Sabotageakte – unsere kritischen Infrastrukturen stehen zunehmend im Zentrum geopolitischer Spannungen und hybrider Bedrohungen. Doch wer schützt eigentlich unsere Netze\, unsere Häfen\, unsere Versorgung? Und was können wir als Bürgerinnen und Bürger konkret zur Widerstandsfähigkeit unserer Infrastruktur beitragen? \nDiese Fragen möchten wir gemeinsam mit Ihnen bei einem sicherheitspolitischen Sommerabend der Deutschen Atlantischen Gesellschaft Nordhessen diskutieren – direkt an einem Ort\, der selbst ein Stück Infrastrukturgeschichte atmet: dem alten Überseehafen in Kassel. \nWir laden Sie herzlich in den Kasseler Hafen ein. In einer moderierten Podiumsdiskussion mit Gästen aus Politik\, Wirtschaft und Energieversorgung stehen die aktuellen Herausforderungen\, Zuständigkeiten – und die Rolle jedes Einzelnen in einer gesamtgesellschaftlichen Sicherheitsarchitektur im Mittelpunkt. \nDie Deutsche Atlantische Gesellschaft Nordhessen lädt ein zum sicherheitspolitischen Sommerabend \nEinlass ab 16:30 Uhr. Ab 19:00 Uhr laden wir zu einem sommerlichen Beisammensein mit Bratwurst vom Grill und kühlen Getränken am Hafen-Kasino ein. In entspannter Atmosphäre möchten wir den Abend mit Ihnen ausklingen lassen\, ins Gespräch kommen und neue Impulse für eine resiliente Gesellschaft setzen. \nDer Eintritt ist frei. Für Speisen und Getränke erheben wir einen kleinen Selbstkostenbeitrag. \n 
URL:https://ata-dag.de/veranstaltung/kritische-infrastruktur-im-fadenkreuz-was-koennen-wir-selbst-zur-sicherheit-beitragen/
LOCATION:Kasseler Hafen\, Hafenstraße 93\, Kassel\, 34125
CATEGORIES:Regionalkreis Nordhessen
ATTACH;FMTTYPE=image/png:https://ata-dag.de/media/2022/12/Reul-Kritis.png
END:VEVENT
END:VCALENDAR