BEGIN:VCALENDAR
VERSION:2.0
PRODID:-//Deutsche Atlantische Gesellschaft e.V. - ECPv6.15.13//NONSGML v1.0//EN
CALSCALE:GREGORIAN
METHOD:PUBLISH
X-ORIGINAL-URL:https://ata-dag.de
X-WR-CALDESC:Veranstaltungen für Deutsche Atlantische Gesellschaft e.V.
REFRESH-INTERVAL;VALUE=DURATION:PT1H
X-Robots-Tag:noindex
X-PUBLISHED-TTL:PT1H
BEGIN:VTIMEZONE
TZID:Europe/Berlin
BEGIN:DAYLIGHT
TZOFFSETFROM:+0100
TZOFFSETTO:+0200
TZNAME:CEST
DTSTART:20240331T010000
END:DAYLIGHT
BEGIN:STANDARD
TZOFFSETFROM:+0200
TZOFFSETTO:+0100
TZNAME:CET
DTSTART:20241027T010000
END:STANDARD
BEGIN:DAYLIGHT
TZOFFSETFROM:+0100
TZOFFSETTO:+0200
TZNAME:CEST
DTSTART:20250330T010000
END:DAYLIGHT
BEGIN:STANDARD
TZOFFSETFROM:+0200
TZOFFSETTO:+0100
TZNAME:CET
DTSTART:20251026T010000
END:STANDARD
BEGIN:DAYLIGHT
TZOFFSETFROM:+0100
TZOFFSETTO:+0200
TZNAME:CEST
DTSTART:20260329T010000
END:DAYLIGHT
BEGIN:STANDARD
TZOFFSETFROM:+0200
TZOFFSETTO:+0100
TZNAME:CET
DTSTART:20261025T010000
END:STANDARD
END:VTIMEZONE
BEGIN:VEVENT
DTSTART;TZID=Europe/Berlin:20251201T183000
DTEND;TZID=Europe/Berlin:20251201T200000
DTSTAMP:20260425T014529
CREATED:20251114T114624Z
LAST-MODIFIED:20251128T103808Z
UID:23786-1764613800-1764619200@ata-dag.de
SUMMARY:70 Jahre Bundeswehr – Rückblick und Ausblick
DESCRIPTION:In diesem Jahr begehen wir das 70. Jubiläum der Gründung der Deutschen Bundeswehr. Das ist Grund zum Feiern\, doch gleichzeitig sehen sich Deutschland und die NATO seit Beginn des russischen Kriegs gegen die Ukraine mit tiefgreifenden sicherheitspolitischen Herausforderungen konfrontiert. Die Stabilität des europäischen Kontinentes ist so stark gefährdet wie seit dem Ende des Kalten Krieges nicht mehr. Deshalb wird die Bundeswehr sowohl personell als auch materiell weiter ausgebaut. Das Ziel des Bundeskanzlers ist es\, aus der Bundeswehr die schlagkräftigste konventionelle Streitkraft Europas zu machen. \nGemeinsam mit Falko Droßmann MdB (Verteidigungspolitischer Sprecher der SPD-Bundestagsfraktion) und dem Historiker Prof. Dr. Paul Nolte (Freie Universität Berlin) möchten wir die historischen Entwicklungslinien der Bundeswehr\, die Wandlungen ihres Selbstverständnisses und die aktuellen Herausforderungen der Truppe beleuchten. \nIm Anschluss der Diskussion laden wir zu einem Imbiss  ein\, der Gelegenheit zum persönlichen Austausch bietet. \nDie Veranstaltung findet in Kooperation mit dem Reichsbanner Schwarz-Rot-Gold statt.
URL:https://ata-dag.de/veranstaltung/70-jahre-bundeswehr-rueckblick-und-ausblick/
LOCATION:Gedenkstätte Deutscher Widerstand\, Stauffenbergstraße 13\, Berlin\, 10785
CATEGORIES:Regionalkreis Berlin
ATTACH;FMTTYPE=image/png:https://ata-dag.de/media/2025/11/Andernach-Adenauer-besucht-Bundeswehr.png
END:VEVENT
BEGIN:VEVENT
DTSTART;TZID=Europe/Berlin:20251202T180000
DTEND;TZID=Europe/Berlin:20251202T193000
DTSTAMP:20260425T014529
CREATED:20251120T143634Z
LAST-MODIFIED:20251120T143634Z
UID:23830-1764698400-1764703800@ata-dag.de
SUMMARY:Den Frieden verhandeln im Krieg
DESCRIPTION:Am 2. Dezember 2025 steht das Sicherheitspolitische Forum am Wittelsbacherplatz unter der Überschrift »Den Frieden verhandeln im Krieg«. In der Podiumsdiskussion spricht Prof. Dr. Sonja Grimm\, Inhaberin des Lehrstuhls für Internationale Beziehungen und Europaforschung\, mit Prof. Dr. Cindy Wittke (Leibniz-Institut für Ost- und Südosteuropaforschung Regensburg) und Sabine Ludwig (Journalistin und JMU-Alumna). Die öffentliche Veranstaltung beginnt um 18:00 Uhr im Hörsaal II des Universitätsgebäudes am Wittelsbacherplatz 1. \nDie Veranstaltung findet in Kooperation mit dem Institut für Politikwissenschaft und Soziologie der Julius-Maximilians-Universität Würzbrug und der Bayerischen Wissenschaftsallianz für Frieden\, Sicherheit und Konflikt (FoKS) statt. \nAlle Interessierten sind herzlich eingeladen. Der Podiumsdiskussion schließt sich ein Empfang an.
URL:https://ata-dag.de/veranstaltung/den-frieden-verhandeln-im-krieg/
LOCATION:Forum der Julius-Maximilians-Universität Würzburg\, Wittelsbacherplatz 1\, Würzburg\, 97074\, Deutschland
CATEGORIES:Regionalkreis Würzburg
ATTACH;FMTTYPE=image/png:https://ata-dag.de/media/2025/11/Expanded-Cover-Wuerzburg.png
END:VEVENT
BEGIN:VEVENT
DTSTART;TZID=Europe/Berlin:20251203T183000
DTEND;TZID=Europe/Berlin:20251203T200000
DTSTAMP:20260425T014529
CREATED:20251119T103545Z
LAST-MODIFIED:20251208T101143Z
UID:23826-1764786600-1764792000@ata-dag.de
SUMMARY:China und die NATO
DESCRIPTION:China ist die neue große Weltmacht neben den USA. Und nicht erst seit Donald Trump orientiert sich Amerika an dieser Herausforderung. Die Verteidigung Europas tritt für ihn dahinter zunehmend zurück. \nWas bedeutet das für das transatlantische Bündnis und wie müssen die NATO und ihre Mitgliedstaaten auf diese tektonische Plattenverschiebung reagieren? Wie wirkt sich Chinas Gebaren gegenüber Taiwan auf Diskussionen der Lastenteilung zwischen den USA und den Europäern in Europa aus? Wie wird im Bündnis darüber diskutiert\, dass sich China und Russland darauf verständigen könnten\, gleichzeitig Taiwan und das Baltikum anzugreifen? Welche Rolle würde die NATO spielen\, wenn die USA in Asien in einen militärischen Konflikt mit China gerieten? \nDie Aufzeichnung wird auf rbb24 inforadio am 7. Dezember um 11:00 Uhr und 21:00 Uhr in der Sendereihe »Forum« ausgestrahlt. \n 
URL:https://ata-dag.de/veranstaltung/china-und-die-nato/
LOCATION:Kaiserin-Friedrich-Haus\, Robert-Koch-Platz 7\, Berlin\, 10115
CATEGORIES:Regionalkreis Berlin
ATTACH;FMTTYPE=image/png:https://ata-dag.de/media/2025/11/Cover-China-RBB.png
END:VEVENT
BEGIN:VEVENT
DTSTART;TZID=Europe/Berlin:20251203T190000
DTEND;TZID=Europe/Berlin:20251203T203000
DTSTAMP:20260425T014529
CREATED:20251112T072027Z
LAST-MODIFIED:20251124T114556Z
UID:23682-1764788400-1764793800@ata-dag.de
SUMMARY:Künstliche Intelligenz – Chancen und Risiken
DESCRIPTION:Wir freuen uns\, Ihnen zum Wintervortrag wieder einen hochkarätigen Gastredner präsentieren zu können. \nMehr und mehr wird Künstliche Intelligenz – KI in alle Bereiche unseres Lebens eindringen. Umso mehr gilt es\, sich jetzt über Chancen und Risiken bewusst zu werden\, um die richtigen Weichenstellungen vorzunehmen. Mit Professor Dr. Patrick Glauner von der Technischen Hochschule Deggendorf ist es uns gelungen\, einen ausgewiesenen Experten auf dem Gebiet der KI zu gewinnen. Neben seinen internationalen Lehrtätigkeiten beriet Prof. Dr. Glauner u.a. die Parlamente von Deutschland\, Frankreich und Luxemburg und er gilt als einer der weltweit führenden Datenwissenschaftler. \nProfessor Dr. Glauner wird uns seinen Blick auf die sich abzeichnenden ethischen Herausforderungen bei der Anwendung von Künstlicher Intelligenz näherbringen. Nach dem Vortrag besteht wie gewohnt die Möglichkeit zur Diskussion in entspannter Atmosphäre.\nBitte bestätigen Sie uns Ihre Teilnahme mit beigefügtem Antwortschreiben bis zum 21. November 2025.
URL:https://ata-dag.de/veranstaltung/kuenstliche-intelligenz-chancen-und-risiken/
LOCATION:Aula des Collegium Augustinianum Gaesdonck\, Gaesdoncker Str. 220\, 47574 Goch
CATEGORIES:Regionalkreis Niederrhein
ATTACH;FMTTYPE=image/png:https://ata-dag.de/media/2025/11/AI-Niederrhein.png
END:VEVENT
BEGIN:VEVENT
DTSTART;TZID=Europe/Berlin:20251209T090000
DTEND;TZID=Europe/Berlin:20251209T160000
DTSTAMP:20260425T014529
CREATED:20251127T151926Z
LAST-MODIFIED:20251127T151926Z
UID:23871-1765270800-1765296000@ata-dag.de
SUMMARY:Gesamtverteidigung – Ist der Zivilschutz in Deutschland kriegstauglich?
DESCRIPTION:Sicherheitspolitischer Kongress der Hermann Ehlers Akademie in Kooperation mit DAG und GSP: \nDie sicherheitspolitische Lage in Europa führt uns eindrücklich vor Augen\, wie wichtig eine belastbare Gesamtverteidigung ist. Doch wie steht es um den Zivilschutz in Deutschland – sind unsere Strukturen\, Kapazitäten und Abläufe krisenfest und kriegstauglich? Der diesjährige Sicherheitspolitische Kongress widmet sich genau dieser Frage. Experten aus Wissenschaft\, Bundeswehr\, Katastrophenschutz und humanitären Organisationen beleuchten die Rolle des Zivilschutzes als zentralen Bestandteil der nationalen Sicherheitsvorsorge. Im Mittelpunkt stehen Strategien\, Schnittstellen und Verantwortlichkeiten im Zusammenwirken von staatlichen\, zivilen und ehrenamtlichen Akteuren. Neben fachlichen Impulsen bietet die Veranstaltung Raum für offene Diskussionen über notwendige Reformen\, Prioritäten und praktische Lehren aus aktuellen Krisenerfahrungen. \nDer Kongress richtet sich an Fachpublikum\, politische Entscheidungsträger und alle\, die sich für Fragen der Sicherheit\, Resilienz und gesamtgesellschaftlichen Verteidigungsfähigkeit interessieren. \nAnmeldung\nBitte melden Sie sich über diesen Link an. \nProgramm:\nProgramm Sipo 2025
URL:https://ata-dag.de/veranstaltung/gesamtverteidigung-ist-der-zivilschutz-in-deutschland-kriegstauglich/
LOCATION:Hermann Ehlers Akademie\, Niemannsweg 78\, Kiel
CATEGORIES:Regionalkreis Kiel
ATTACH;FMTTYPE=image/jpeg:https://ata-dag.de/media/2025/11/https___cdn.evbuc_.com_images_1063166313_315159745741_1_original.jpg
END:VEVENT
BEGIN:VEVENT
DTSTART;VALUE=DATE:20251212
DTEND;VALUE=DATE:20251213
DTSTAMP:20260425T014529
CREATED:20250922T093208Z
LAST-MODIFIED:20251119T104926Z
UID:23228-1765497600-1765583999@ata-dag.de
SUMMARY:Mini Model NATO Germany
DESCRIPTION:We are looking for members of YATA Germany who would like to participate as diplomats for one day at Mini Model NATO Germany this December in Berlin \n12.12.2025 (Full Day): Simulation at Freie Universität Berlin \nOn 12 December\, Mini Model NATO Germany will carry out a one-day simulation of NATO’s diplomatic decision-making processes. During the simulation\, participants will represent a NATO member state in the North Atlantic Council (NAC). In total\, 32 participants will take part in this crisis simulation. Additionally\, there will be a Fireside Chat on the evening of 11 December 2025. \nIn their roles\, participants will be tasked with responding to and resolving a simulated crisis as well as engaging in structured debates and negotiations. All you need to bring is a laptop and the commitment to thoroughly prepare for your assigned country. As part of the preparation\, participants are required to write a Country Report. Further details will be provided upon successful registration. \nWe encourage students and young professionals to join us in Berlin for this time. A day before the simulation\, we are planning a fire chat for you with Lieutenant General (ret.) Heinrich Brauß\, Former Deputy Secretary General for Defence Policy and Force Planning at NATO (2013–2018). \nParticipation is free of charge for members of YATA Germany. \nModel NATO e.V. \nFollowing two successful years of hosting the four-day Model NATO Germany simulation in Berlin (https://www.modelnatogermany.de/conference/previous-conferences/)\, we are now introducing Mini Model NATO Germany. This new one-day format aims to make NATO simulations accessible to even more interested students by offering a compact yet authentic experience of crisis management\, debates\, and negotiations. \nFor questions\, please first contact the person or organization that shared this call for applications with you. Please note that the event will be implemented by Model NATO Germany e.V. as the executing partner in collaboration with the Freie Universität Berlin\, the Bard-College and the German Atlantic Association. The organizing team of Mini Model NATO Germany can be reached at minimodelnatogermany@modelnatogermany.de if further clarification is needed. \nDisclaimer: Please note that photos will be taken during the events. By submitting your application and participating\, you consent to being photographed and to the possible publication of these photos in connection with the event. \n  \nLageplan-FU-Modulba
URL:https://ata-dag.de/veranstaltung/mini-model-nato-germany/
LOCATION:Berlin\, Deutschland
CATEGORIES:YATA
ATTACH;FMTTYPE=image/png:https://ata-dag.de/media/2025/09/Model-NATO-Cover.png
END:VEVENT
BEGIN:VEVENT
DTSTART;TZID=Europe/Berlin:20251213T130000
DTEND;TZID=Europe/Berlin:20251213T160000
DTSTAMP:20260425T014529
CREATED:20251127T150256Z
LAST-MODIFIED:20251127T152941Z
UID:23865-1765630800-1765641600@ata-dag.de
SUMMARY:Mitgliederversammlung der Jungen DAG
DESCRIPTION:Die Junge DAG bietet ihren Mitgliedern die Möglichkeit\, Themen der Außen- und Sicherheitspolitik aktiv mitzugestalten\, eigene Veranstaltungsideen einzubringen\, und sich mit anderen engagierten jungen Menschen aus Berlin und ganz Deutschland zu vernetzen.\nWir laden alle Mitglieder der Jungen DAG herzlich zur Mitgliederversammlung 2025 am 13. Dezember in Berlin ein. Die Veranstaltung findet von 13:00 bis 16:00 Uhr in der Geschäftsstelle der DAG\, Lennéstraße 11\, 10785 Berlin\, statt. Bitte meldet euch bis zum 1. Dezember 2025 über diesen Link an: https://forms.gle/P4cRcZW1eXAXVX1aA \nIn der Mitgliederversammlung wird der neue Vorstand der Jungen DAG gewählt. Wenn du dich für eine Mitgliedschaft im Vorstand bewirbst\, gib dies bitte im Anmeldeformular an und lade dort auch die erforderlichen Unterlagen hoch. Solltest du am Tag der Mitgliederversammlung nicht persönlich in Berlin sein können\, kannst du trotzdem kandidieren – dein Name erscheint dennoch auf dem Stimmzettel. Fahrtkosten werden gemäß Bundesreisekostengesetz bis zu 50 Euro bezuschusst. \nGestaltet die Zukunft mit und mischt euch ein in die sicherheitspolitischen Debatten!\nWir freuen uns auf eure Teilnahme und den Austausch mit euch.
URL:https://ata-dag.de/veranstaltung/mitgliederversammlung-der-jungen-dag-13-dezember/
LOCATION:DAG-Geschäftsstelle\, Lennéstraße 11\, Berlin\, 10785
CATEGORIES:YATA
ATTACH;FMTTYPE=image/png:https://ata-dag.de/media/2025/11/MV-Junge-DAG.png
END:VEVENT
END:VCALENDAR