BEGIN:VCALENDAR
VERSION:2.0
PRODID:-//Deutsche Atlantische Gesellschaft e.V. - ECPv6.15.13//NONSGML v1.0//EN
CALSCALE:GREGORIAN
METHOD:PUBLISH
X-ORIGINAL-URL:https://ata-dag.de
X-WR-CALDESC:Veranstaltungen für Deutsche Atlantische Gesellschaft e.V.
REFRESH-INTERVAL;VALUE=DURATION:PT1H
X-Robots-Tag:noindex
X-PUBLISHED-TTL:PT1H
BEGIN:VTIMEZONE
TZID:Europe/Berlin
BEGIN:DAYLIGHT
TZOFFSETFROM:+0100
TZOFFSETTO:+0200
TZNAME:CEST
DTSTART:20250330T010000
END:DAYLIGHT
BEGIN:STANDARD
TZOFFSETFROM:+0200
TZOFFSETTO:+0100
TZNAME:CET
DTSTART:20251026T010000
END:STANDARD
BEGIN:DAYLIGHT
TZOFFSETFROM:+0100
TZOFFSETTO:+0200
TZNAME:CEST
DTSTART:20260329T010000
END:DAYLIGHT
BEGIN:STANDARD
TZOFFSETFROM:+0200
TZOFFSETTO:+0100
TZNAME:CET
DTSTART:20261025T010000
END:STANDARD
BEGIN:DAYLIGHT
TZOFFSETFROM:+0100
TZOFFSETTO:+0200
TZNAME:CEST
DTSTART:20270328T010000
END:DAYLIGHT
BEGIN:STANDARD
TZOFFSETFROM:+0200
TZOFFSETTO:+0100
TZNAME:CET
DTSTART:20271031T010000
END:STANDARD
END:VTIMEZONE
BEGIN:VEVENT
DTSTART;TZID=Europe/Berlin:20260203T180000
DTEND;TZID=Europe/Berlin:20260203T193000
DTSTAMP:20260425T045708
CREATED:20260113T120958Z
LAST-MODIFIED:20260127T150551Z
UID:24052-1770141600-1770147000@ata-dag.de
SUMMARY:Venezuela im geopolitischen Spannungsfeld
DESCRIPTION:Die Entwicklungen in Venezuela prägen seit Jahren die politische Lage in Lateinamerika und haben weitreichende Folgen für Europa und auch für Deutschland – von Energie- und Rohstoff-Fragen über geopolitische Machtverschiebungen bis hin zu Migration und internationaler Sicherheitspolitik. Die Krise wirkt damit unmittelbar auf politische Entscheidungen\, wirtschaftliche Stabilität und globale Partnerschaften\, die auch unser tägliches Leben beeinflussen. \nUm diese komplexen Zusammenhänge fundiert zu beleuchten\, konnten wir einen herausragenden Experten\, den viele von Ihnen aus dem Fernsehen oder aus überregionalen Zeitungen kennen\, gewinnen\, Professor Dr. Kai Ambos. \nProf. Ambos lehrt Straf- und Völkerrecht an der Universität Göttingen\, er ist zudem Richter am Kosovo-Sondertribunal (KSC) und Berater internationaler Organisationen (u. a. UN\, IStGH). Prof. Dr. Ambos zählt zu den renommiertesten deutschen Experten für internationales Strafrecht\, Völkerrecht und geopolitische Konfliktanalysen. Seine wissenschaftliche und praktische Erfahrung ermöglicht einen tiefen Einblick in die politischen Dynamiken Venezuelas\, die Rolle externer Akteure sowie die Auswirkungen auf internationale Sicherheit\, Migration und globale Energiepolitik. \nThema des Abends ist „Venezuela im geopolitischen Spannungsfeld – Hintergründe\, Machtstrukturen und Auswirkungen auf Europa“. \nWarum dieses Thema wichtig ist \n\nVenezuela ist ein zentraler Schauplatz der globalen Machtpolitik.\nDie wirtschaftliche und politische Krise beeinflusst Migration\, Energiemärkte und internationale Allianzen.\nEuropa – und damit auch Deutschland – ist zunehmend von den Entwicklungen betroffen.\nDie Frage\, wie internationale Akteure reagieren sollten\, ist aktueller denn je.\n\nWir würden uns sehr freuen\, wenn Sie zahlreich erscheinen und mit uns in den Austausch treten. Ihre Teilnahme trägt wesentlich dazu bei\, dass wir dieses wichtige Thema in seiner Tiefe beleuchten und gemeinsam diskutieren können. Anmeldungen verbindlich bis spätestens 29.01.2026. \nEinlass: 17:30 Uhr
URL:https://ata-dag.de/veranstaltung/venezuela-im-geopolitischen-spannungsfeld/
LOCATION:Gästehaus der Goethe-Universität Frankfurt\, Frauenlobstraße 1\, Frankfurt am Main\, 60487
CATEGORIES:Forum Frankfurt
ATTACH;FMTTYPE=image/png:https://ata-dag.de/media/2026/01/Venezulea-Cover.png
END:VEVENT
BEGIN:VEVENT
DTSTART;TZID=Europe/Berlin:20260204T190000
DTEND;TZID=Europe/Berlin:20260204T210000
DTSTAMP:20260425T045708
CREATED:20260113T114938Z
LAST-MODIFIED:20260113T122107Z
UID:24029-1770231600-1770238800@ata-dag.de
SUMMARY:Generation Fragebogen: Zwischen Pflicht\, Freiwilligkeit und Verdrängung
DESCRIPTION:Vier Jahre Krieg in Europa. Russland greift die Ukraine weiterhin brutal an – und niemand weiß\, wie lange dieser Krieg noch dauert. Gleichzeitig erschüttert ein erratisch agierender US-Präsident das westliche Bündnis – mit Rückzugsdrohungen\, NATO-Bashing und demonstrativer Unberechenbarkeit. \nWährend die strategischen Gewissheiten der Nachkriegszeit zerfallen und die Friedensdividende aufgebraucht ist\, rückt in Deutschland ein lange verdrängtes sicherheitspolitisches Thema wieder in den Fokus: der Wehrdienst.\nSeit dem 1. Januar sind junge Männer verpflichtet\, einen Fragebogen zu ihrer Wehrdienstfähigkeit auszufüllen; junge Frauen können freiwillig teilnehmen. Für viele junge Menschen beginnt damit eine Phase der Ungewissheit – zwischen Pflichtgefühl\, Verdrängung und der Frage\, was der Staat eigentlich von ihnen erwartet. \nWährend politische Positionen teils weit auseinandergehen\, wächst der Druck\, sicherheitspolitische Strukturen an die veränderte Bedrohungslage anzupassen – mit spürbaren Auswirkungen insbesondere auf die junge Generation. Was erwarten Politik\, Bundeswehr\, Wissenschaft und Medien voneinander – und was bedeutet das für den gesellschaftlichen Zusammenhalt? \nDiese Fragen wollen wir mit Ihnen diskutieren – offen\, kontrovers und generationenübergreifend. \nNach der Diskussion freuen wir uns auf persönliche Gespräche in entspannter Runde bei einem Getränk und einem kleinen Snack.
URL:https://ata-dag.de/veranstaltung/generation-fragebogen-zwischen-pflicht-freiwilligkeit-und-verdraengung/
LOCATION:Ständehaus Kassel\, Ständesaal\, Ständeplatz 6-12\, Kassel\, 34117
CATEGORIES:Regionalkreis Nordhessen
ATTACH;FMTTYPE=image/png:https://ata-dag.de/media/2026/01/Wehrpflicht-Cover-Kassel-1.png
END:VEVENT
BEGIN:VEVENT
DTSTART;TZID=Europe/Berlin:20260205T190000
DTEND;TZID=Europe/Berlin:20260205T203000
DTSTAMP:20260425T045708
CREATED:20260127T121820Z
LAST-MODIFIED:20260127T151240Z
UID:24101-1770318000-1770323400@ata-dag.de
SUMMARY:Nie mehr zum Amt!
DESCRIPTION:Aus der Reihe »Politische Wintergespräche« \nEinfacher\, schneller\, effizienter\, wirtschaftlicher – und bürgernäher! In der erfolgreichen Digitalisierung der öffentlichen Verwaltung stecken Milliarden an Effizienzgewinnen für uns alle. Sie erfordert mehr als nur technische Lösungen; sie muss die Bedürfnisse der Bürgerinnen und Bürger ebenso wie der Unternehmen in den Mittelpunkt stellen\, um Vertrauen und Akzeptanz zu gewinnen und Deutschland nach vorne zu bringen. In Zeiten tiefgreifender demographischer\, gesellschafts- und sicherheitspolitischer Veränderungen schafft sie eine entscheidende Möglichkeit zu wirksamen Strukturreformen und Haushaltsentlastungen. Estland ist das digitale Vorzeigeland in Europa und bietet wertvolle Einblicke\, erprobte Lösungen und jahrzehntelange Erfahrungen\, wie digitale Transformation bürger- und wirtschaftsfreundlich gestaltet werden kann. Von „Personal Government – der Staat bietet proaktiv seine Dienste an\, ohne Anträge“ bis zum „E‑Notarztwagen\, der Leben rettet“\, von „E‑Learning“ im PISA-Spitzenreiterland Estland bis zur „E‑Residenz für Ausländer“ und „Cyber-Sicherheit“. All das ist Alltag in Estland. Direkt neben Putins Kriegsmaschine und ihren Cyber-Angriffen auf Estlands Digitalsystem. Wie passt das zusammen? Was kann Deutschland von Estland lernen? \nWir laden Sie herzlich ein\, mit dem ehemaligen deutschen Botschafter in Estland\, Christoph Eichhorn\, einen Einblick in die sicherheitspolitische Lage und die Möglichkeiten einer konsequenten Digitalisierung zu erhalten und freuen uns auf den Austausch mit Ihnen zum Thema: \nNie mehr zum Amt! Das digitale Spitzenland Estland: Liberal\, digital und Russlands Nachbar. \n  \nHinweis: Günstige Parkplätze finden Sie in der Tiefgarage des Rheinischen Landesmuseums Bonn in unmittelbarer Nähe zur Studentenverbindung in der Colmantstr. 14–16 \n 
URL:https://ata-dag.de/veranstaltung/das-digitale-spitzenland-estland/
LOCATION:K.D.St.V. Staufia\, Baumschulallee 22\, Bonn\, 53115
CATEGORIES:Bonner Forum
ATTACH;FMTTYPE=image/jpeg:https://ata-dag.de/media/2026/01/final_Foto-„e-Estonia-Showroom-von-Annika-Haas-Quelle-Wikimedia-Commons-Lizenz-CC-BY-2.0-Ausschnitt.jpg
END:VEVENT
BEGIN:VEVENT
DTSTART;TZID=Europe/Berlin:20260212T183000
DTEND;TZID=Europe/Berlin:20260212T200000
DTSTAMP:20260425T045708
CREATED:20260123T102428Z
LAST-MODIFIED:20260211T155008Z
UID:24081-1770921000-1770926400@ata-dag.de
SUMMARY:Security Policy Round Table at Prinz-Carl-Palais 2026
DESCRIPTION:Since the Russian full-scale attack on Ukraine\, most NATO members have recognized the need to strengthen defense capabilities. The alliance has adopted a new 3.5 and a new 1.5 percent GDP commitment – unthinkable just a few years ago. The European Union is adapting a “Readiness 2030” paradigm. The United States is re-evaluating its strategic outlook. Russia is showing no signs of interest in a lasting peace. As the sense of threat and insecurity in Europe is at a post-cold war high\, the question is: How can NATO and in particular its European members address the capability and credibility gap in collective deterrence? Which military capabilities need to be built up and what technologies can shield us from new forms of warfare? What is the role of industry\, science and other parts of society\, and how do they affect each other mutually? In short: What can be done to achieve a comprehensive deterrent to retain peace in Europe and beyond?\n\n  \nThe discussion will be held in English (no interpretation provided). \nThis event will be held at the margins and in cooperation with the 62nd Munich Security Conference
URL:https://ata-dag.de/veranstaltung/security-policy-round-table-at-prinz-carl-palais-2026/
LOCATION:Prinz-Carl-Palais\, Franz-Josef-Strauss-Ring 5\, München\, 80539
CATEGORIES:Forum München
ATTACH;FMTTYPE=image/png:https://ata-dag.de/media/2023/01/SiPol-Gespraeche-im-Prinz-Carl-Palais-2.png
END:VEVENT
BEGIN:VEVENT
DTSTART;TZID=Europe/Berlin:20260216T183000
DTEND;TZID=Europe/Berlin:20260216T200000
DTSTAMP:20260425T045708
CREATED:20260203T155021Z
LAST-MODIFIED:20260325T083058Z
UID:24173-1771266600-1771272000@ata-dag.de
SUMMARY:Bericht aus Washington. Zum Stand der transatlantischen Beziehungen
DESCRIPTION:Die Veranstaltung ist ausgebucht. Sie können sich nicht mehr anmelden. \nDie Deutsche Atlantische Gesellschaft freut sich\, auch in diesem Jahr wieder den deutschen Botschafter in Washington D.C.\, Jens Hanefeld\, für einen Impulsvortrag zum Stand der transatlantischen Beziehungen einzuladen. \nIm Anschluss diskutieren wir mit Dr. Laura von Daniels und Prof. Dr. Christian Lammert über die Rolle Deutschlands und Europas in den transatlantischen Beziehungen unter der zweiten Amtszeit von US-Präsident Donald Trump. \nDr. Christoph von Marschall\, Diplomatischer Korrespondent der Chefredaktion des Tagesspiegels\, wird die Veranstaltung moderieren. Die Diskussion beginnt um 18:30 Uhr und findet im Kaiserin-Friedrich-Haus (Robert-Koch-Platz 7\, 10115 Berlin) statt. \nFür diejenigen\, die der Veranstaltung nicht in Präsenz beiwohnen können\, streamen wir die Diskussion live. \n  \n\n\n\n\n\n\nSie sehen gerade einen Platzhalterinhalt von YouTube. Um auf den eigentlichen Inhalt zuzugreifen\, klicken Sie auf die Schaltfläche unten. Bitte beachten Sie\, dass dabei Daten an Drittanbieter weitergegeben werden. \n Mehr Informationen  \n Inhalt entsperren Erforderlichen Service akzeptieren und Inhalte entsperren
URL:https://ata-dag.de/veranstaltung/bericht-aus-washington-zum-stand-der-transatlantischen-beziehungen-2/
LOCATION:Kaiserin-Friedrich-Haus\, Robert-Koch-Platz 7\, Berlin\, 10115
CATEGORIES:Regionalkreis Berlin
ATTACH;FMTTYPE=image/png:https://ata-dag.de/media/2025/01/Bericht-aus-Washington.png
END:VEVENT
BEGIN:VEVENT
DTSTART;TZID=Europe/Berlin:20260219T183000
DTEND;TZID=Europe/Berlin:20260219T200000
DTSTAMP:20260425T045708
CREATED:20260202T132806Z
LAST-MODIFIED:20260402T143422Z
UID:24179-1771525800-1771531200@ata-dag.de
SUMMARY:Europas Zwangslage und Strategieoptionen in der neuen WeltUnordnung
DESCRIPTION:Selten war die Sicherheitslage auf der Welt zu Beginn eines Jahres so verworren\, schwer durchschaubar und spannungsgeladen\, wie wir sie derzeit erleben: \nRussland setzt den Krieg in der Ukraine unvermindert und grausam fort. China demonstriert militärisch seine Absicht\, Taiwan zu annektieren. Mit der Entführung des venezolanischen Präsidenten Maduro und mit der ausgesprochenen Eingliederungsabsicht von Grönland missachtet der amerikanische Präsident nicht nur das Völkerrecht\, sondern brüskiert die NATO-Partner und Europa. \nDie Spannungen zwischen Israel und Palästina dauern fort. In Syrien kämpft die Armee gegen die kurdische Miliz und das Mullah-Régime im Iran versucht mit Gewalt\, sich an der Macht zu halten. Zahlreich sind die Konflikte und Kriege auf dem afrikanischen Kontinent mit Auswirkungen auf Europa. \nWelche Rolle kommt Europa und Deutschland in dieser Gemengelage zu? Diese und andere damit zusammenhängende Fragen diskutieren wir mit der Politikwissenschaftlerin Professor Dr. Gerlinde Groitl. Nach ihrem einleitenden Vortrag freuen wir uns auf die Diskussion mit Ihnen. \nHinweis: Bitte melden Sie sich bis spätestens Montag\, 16. Februar 2026 über folgenden Link unseres Kooperationspartners GSP an:  Anmeldung  und geben dabei in der Rubrik „Bemerkungen“ die Namen aller weiteren Teilnehmer an. \nZur Einfahrt in das Kasernengelände ist außerdem die Angabe des Kfz-Kennzeichens\, des Fahrzeugtyps und der ‑farbe erforderlich.
URL:https://ata-dag.de/veranstaltung/europas-zwangslage-und-strategieoptionen-in-der-neuen-weltunordnung/
LOCATION:Kirchfeldkaserne\, An der Trift 15\, Karlsruhe\, 76149\, Deutschland
CATEGORIES:Regionalkreis Karlsruhe
ATTACH;FMTTYPE=image/png:https://ata-dag.de/media/2026/02/Europas-Zwangslage-und-Strategieoptionen-in-der-neuen-WeltUnordnung-.png
END:VEVENT
BEGIN:VEVENT
DTSTART;TZID=Europe/Berlin:20260225T190000
DTEND;TZID=Europe/Berlin:20260225T203000
DTSTAMP:20260425T045708
CREATED:20260130T073348Z
LAST-MODIFIED:20260130T073348Z
UID:24141-1772046000-1772051400@ata-dag.de
SUMMARY:Deutschlands Schlüsselrolle im Bündnis und Konsequenzen für die zivil-militärische Gesamtverteidigung
DESCRIPTION:Vor dem Hintergrund der doppelten Zeitenwende – Putins Angriffskrieg gegen die Ukraine\, Trumps Abwendung von Europa –muss die Allianz dringend ihre Abschreckungsfähigkeit stärken. Unerlässliche Voraussetzung ist eine in Frieden\, Krise und Krieg funktionierende zivile und militärische Gesamtverteidigung in Deutschland. Parallel zum vorliegenden „Operationsplan Deutschland“ der Bundeswehr bedarf es dabei eines Konzepts für Zivilverteidigung und den Schutz kritischer ziviler Infrastruktur in Krise und Krieg. \nWie der Anschlag auf die Stromversorgung in Berlin gezeigt hat\, bestehen folgenreiche Verwundbarkeiten – sind wir in den Verwaltungen\, Blaulichtorganisationen\, Energie- und Wasserversorgern\, Verkehrsbetrieben\, Firmen der privaten Wirtschaft und nicht zuletzt auch allen Privathaushalten hinreichend vorbereitet? \nAnmeldungen bitte unter Tel.-Nr: 04135/ 7988 oder per mail: Christian@mail-engel.de \nWir freuen uns\, diesen Abend gemeinsam mit der Arbeitsgemeinschaft der Reserveoffiziere\, dem Reservistenverband KrGrp Lüneburg\, und der Gesellschaft für Sicherheitspolitik auszurichten.
URL:https://ata-dag.de/veranstaltung/deutschlands-schluesselrolle-im-buendnis-und-konsequenzen-fuer-die-zivil-militaerische-gesamtverteidigung/
LOCATION:Casino Theodor-Körner-Kaserne\, Fuchsweg 11\, Lüneburg\, 21337\, Deutschland
CATEGORIES:Forum Lüneburg
ATTACH;FMTTYPE=image/png:https://ata-dag.de/media/2026/01/Cover-RMzF.png
END:VEVENT
BEGIN:VEVENT
DTSTART;TZID=Europe/Berlin:20260226T180000
DTEND;TZID=Europe/Berlin:20260226T193000
DTSTAMP:20260425T045708
CREATED:20260202T111603Z
LAST-MODIFIED:20260202T131418Z
UID:24164-1772128800-1772134200@ata-dag.de
SUMMARY:Asien auf dem Vormarsch? –  Ostasiens Energiepolitik und  sicherheitspolitische Strategien
DESCRIPTION:Asiatische Staaten gestalten die Energiewende zunehmend strategisch: Mit massiven Investitionen in grüne Technologien\, dem Ausbau erneuerbarer Energien und klar formulierten geopolitischen Ambitionen verbinden sie wirtschaftliches Wachstum mit sicherheitspolitischer Stabilität. Energie- und Klimapolitik entwickeln sich dabei zu zentralen Instrumenten internationaler Positionierung und globaler Einflussnahme. Vor diesem Hintergrund stellen sich zentrale Fragen: Wie vollzieht sich die Transformation der Energiepolitik in Ostasien? Welche geopolitischen Folgen hat die expansive Energie- und Technologiepolitik der Region? Welche Rolle spielen dabei internationale Partnerschaften\, etwa mit der EU? Und was bedeutet dies für Europa und Deutschland? \nAnmeldungen bitte bis zum 19.02.2026 unter Tel.-Nr: 04135/ 7988 Bw: 8670/3003\, 3006 oder per mail: LKdoMVEinladungsmanagement@Bundeswehr.org
URL:https://ata-dag.de/veranstaltung/asien-auf-dem-vormarsch-ostasiens-energiepolitik-und-sicherheitspolitische-strategien/
LOCATION:IHK zu Schwerin\, Graf-Schack-Allee 12\, Schwerin\, 19053\, Deutschland
CATEGORIES:Regionalkreis Schwerin
ATTACH;FMTTYPE=image/png:https://ata-dag.de/media/2026/02/Asien-auf-dem-Vormarsch-–-Ostasiens-Energiepolitik-und-sicherheitspolitische-Strategien-.png
END:VEVENT
BEGIN:VEVENT
DTSTART;TZID=Europe/Berlin:20260226T190000
DTEND;TZID=Europe/Berlin:20260226T210000
DTSTAMP:20260425T045708
CREATED:20260204T143836Z
LAST-MODIFIED:20260223T122649Z
UID:24203-1772132400-1772139600@ata-dag.de
SUMMARY:Aktuelle politische Entwicklungen in der West-Balkan Region im Lichte der Neuausrichtung transatlantischer Beziehungen
DESCRIPTION:Bitte beachten Sie die geänderte Uhrzeit! Die Veranstaltung beginnt bereits um 19:00 Uhr! \n  \nWir freuen uns\, Ihnen zur Wintervortragsreihe im Jahr 2026 gemeinsam mit unseren Partnern\, dem Air Component Command und dem Collegium Augustinianum Gaesdonck\, wieder einen hochkarätigen Gastredner präsentieren zu können. \nDie Westbalkan-Region rückt angesichts geopolitischer Verschiebungen\, des Krieges in der Ukraine sowie einer sich wandelnden transatlantischen Partnerschaft zunehmend in den Fokus europäischer und nordamerikanischer Sicherheits- und Außenpolitik. Fragen von Stabilität\, Integration und strategischer Ausrichtung gewinnen dabei erneut an Bedeutung. \nZu diesem Anlass dürfen wir Herrn Christian Schmidt\, Präsident der Deutschen Atlantischen Gesellschaft und Hoher Repräsentant von Bosnien und Herzegowina begrüßen. Als ehemaliger Bundesminister und ausgewiesener Kenner der transatlantischen Beziehungen verbindet Christian Schmidt langjährige politische Erfahrung mit strategischer Analyse. In seiner heutigen Funktion prägt er den sicherheitspolitischen und gesellschaftlichen Dialog zwischen Deutschland\, Europa und Nordamerika maßgeblich. \nBundesminister a.D. Christian Schmidt wird die politischen Dynamiken in der Westbalkan-Region vor dem Hintergrund aktueller transatlantischer Entwicklungen einordnen und deren Bedeutung für die europäische und internationale Sicherheitspolitik beleuchten. Heute spricht er zu dem Themenkomplex: \n„Aktuelle politische Entwicklungen in der West-Balkan Region im Lichte der Neuausrichtung transatlantischer Beziehungen“ \nNach dem Vortrag besteht wie gewohnt die Möglichkeit zur Diskussion in entspannter Atmosphäre. Bitte bestätigen Sie Ihre Teilnahme bis zum 25. Februar 2026. \nDies wird die letzte Veranstaltung des Regionalkreises Niederrhein unter meiner Leitung sein. Ich wurde im November 2025 in den Vorstand der DAG gewählt und möchte mich dort tatkräftig\, auch für die Belange des Niederrheins einsetzen. Meinen Nachfolger\, Prof. Dr. Frank Mehring bitte ich Sie\, genauso herzlich aufzunehmen und seinen Einladungen mit gleicher Treue zu folgen. Ich freue mich auf ein Wiedersehen und verbleibe mit freundlichen Grüßen\, Ihr \nMichael K. Urban
URL:https://ata-dag.de/veranstaltung/aktuelle-politische-entwicklungen-in-der-west-balkan-region-im-lichte-der-neuausrichtung-transatlantischer-beziehungen/
LOCATION:Aula des Collegium Augustinianum Gaesdonck\, Gaesdoncker Str. 220\, 47574 Goch
CATEGORIES:Regionalkreis Niederrhein
ATTACH;FMTTYPE=image/jpeg:https://ata-dag.de/media/2022/10/mostar-203662_1280-e1665141271291.jpg
END:VEVENT
END:VCALENDAR